BEGIN:VCALENDAR
PRODID:NingEventWidget-v1
VERSION:2.0
METHOD:PUBLISH
BEGIN:VTIMEZONE
TZID:Pacific/Midway
X-LIC-LOCATION:Pacific/Midway
BEGIN:STANDARD
TZOFFSETFROM:-1100
TZOFFSETTO:-1100
TZNAME:SST
DTSTART:19700101T000000
END:STANDARD
END:VTIMEZONE
BEGIN:VEVENT
UID:2274639:Event:62328
DTSTAMP:20260425T022812Z
SUMMARY:Getting the Waters Tested- The Marcellus Shale Factor
DESCRIPTION:Background Groundwater Quality and Baseline Testing in Nor
 theastern PA – A Different Approach\nBrian Oram is the laboratory ma
 nager for The Center for Environmental Quality at Wilkes University. H
 e is a licensed professional geologist, licensed Well Driller, Profess
 ional Soil Scientist, and licensed Sewage Enforcement Officer in the C
 ommonwealth of Pennsylvania with over 20 years experience in conductin
 g hydrogeological investigations related to water supply development, 
 contaminant migration, wetland mitigation, and land based wastewater d
 isposal systems.\nThis event will present the available information fr
 om the Wilkes University Citizen Database and make specific recommenda
 tions related to baseline water quality testing and how the Marcellus 
 Shale is a Factor in making changes with how we manage our water resou
 rces.\nThe fee for the course is $ 85.00\n\nFor more information visit
  https://gomarcellusshale.com/events/getting-the-waters-tested-the
DTSTART;TZID=Pacific/Midway:20110210T090000
DTEND;TZID=Pacific/Midway:20110210T110000
CATEGORIES:professional, training, workshop
LOCATION:Wilkes University, Wilkes Barre, PA
WEBSITE:http://www.wilkes.edu/pages/1703.asp
URL:http://www.wilkes.edu/pages/1703.asp
CONTACT:570-408-4235
ORGANIZER;CN="Brian Oram, PG":https://gomarcellusshale.com/profile/Bri
 anOramPG
ATTACH;FMTTYPE="image/jpeg":
ATTENDEE;ROLE=REQ-PARTICIPANT;PARTSTAT=ACCEPTED;RSVP=TRUE;CN="Brian Or
 am, PG":https://gomarcellusshale.com/profile/BrianOramPG
END:VEVENT
END:VCALENDAR
