BEGIN:VCALENDAR
PRODID:NingEventWidget-v1
VERSION:2.0
METHOD:PUBLISH
BEGIN:VTIMEZONE
TZID:Pacific/Midway
X-LIC-LOCATION:Pacific/Midway
BEGIN:STANDARD
TZOFFSETFROM:-1100
TZOFFSETTO:-1100
TZNAME:SST
DTSTART:19700101T000000
END:STANDARD
END:VTIMEZONE
BEGIN:VEVENT
UID:2274639:Event:71574
DTSTAMP:20260425T062744Z
SUMMARY:Getting the Waters Tested - Marcellus Shale Factor (Columbia C
 ounty, PA)
DESCRIPTION:Citizen Informational and Training Event related to baseli
 ne testing, interpretating results, and the formation of a Citizen Gro
 undwater Quality Database- Free Event.\nPresentation by Mr. Brian Oram
 , Professional Geologist and Director for the Center for Environmental
  Quality at Wilkes University.\n \nThis talk will focus on the major 
 water quality issues of OUR REGION related to ground and surface water
  as well as new potential impacts from Marcellus shaledevelopment. Fre
 e and open to the public.  The talk will also discuss citizen monito
 ring of private wells, streams, and other watershed features.\n\nFor m
 ore information visit https://gomarcellusshale.com/events/getting-the-
 waters-tested
DTSTART;TZID=Pacific/Midway:20110317T180000
DTEND;TZID=Pacific/Midway:20110317T200000
CATEGORIES:workshop
LOCATION:Large Conference Rm, Agriculture Service Center, 702 Sawmill 
 Road, Bloomsburg, PA
WEBSITE:http://www.facebook.com/pages/Columbia-County-Conservation-Dis
 trict/136994973029083
URL:http://www.facebook.com/pages/Columbia-County-Conservation-Distric
 t/136994973029083
CONTACT:
ORGANIZER;CN="Brian Oram, PG":https://gomarcellusshale.com/profile/Bri
 anOramPG
ATTACH;FMTTYPE="image/jpeg":
ATTENDEE;ROLE=REQ-PARTICIPANT;PARTSTAT=ACCEPTED;RSVP=TRUE;CN="Brian Or
 am, PG":https://gomarcellusshale.com/profile/BrianOramPG
END:VEVENT
END:VCALENDAR
