BEGIN:VCALENDAR
PRODID:NingEventWidget-v1
VERSION:2.0
METHOD:PUBLISH
BEGIN:VTIMEZONE
TZID:Pacific/Midway
X-LIC-LOCATION:Pacific/Midway
BEGIN:STANDARD
TZOFFSETFROM:-1100
TZOFFSETTO:-1100
TZNAME:SST
DTSTART:19700101T000000
END:STANDARD
END:VTIMEZONE
BEGIN:VEVENT
UID:2274639:Event:40008
DTSTAMP:20260424T233510Z
SUMMARY:GIS and GPS Online Training Short-Courses
DESCRIPTION:We are offering 2 hour and 5 hour online training courses 
 in GPS (Global Positioning Systems) and GIS (Geographic Information Sy
 stems) these course meet continuing education requirements for profess
 ionals in multiple states and provide an affordable means of refreshin
 g your understanding or learning more about this subject.\n\nFor more 
 information visit https://gomarcellusshale.com/events/gis-and-gps-onli
 ne-training
DTSTART;TZID=Pacific/Midway:20101115T180000
DTEND;TZID=Pacific/Midway:20101231T190000
CATEGORIES:online, training
LOCATION:online training
WEBSITE:http://www.bfenvironmental.com/engineers.php
URL:http://www.bfenvironmental.com/engineers.php
CONTACT:
ORGANIZER;CN="Brian Oram, PG":https://gomarcellusshale.com/profile/Bri
 anOramPG
ATTACH;FMTTYPE="image/jpeg":
ATTENDEE;ROLE=REQ-PARTICIPANT;PARTSTAT=ACCEPTED;RSVP=TRUE;CN="Brian Or
 am, PG":https://gomarcellusshale.com/profile/BrianOramPG
END:VEVENT
END:VCALENDAR
