BEGIN:VCALENDAR
PRODID:NingEventWidget-v1
VERSION:2.0
METHOD:PUBLISH
BEGIN:VTIMEZONE
TZID:Pacific/Midway
X-LIC-LOCATION:Pacific/Midway
BEGIN:STANDARD
TZOFFSETFROM:-1100
TZOFFSETTO:-1100
TZNAME:SST
DTSTART:19700101T000000
END:STANDARD
END:VTIMEZONE
BEGIN:VEVENT
UID:2274639:Event:71380
DTSTAMP:20260424T233341Z
SUMMARY:GIS Training for Pennsylvania Oil & Gas Professionals
DESCRIPTION:Development Faction, LLC has partnered with North Central 
 Workforce Investment Board to provide GIS training for the Oil & Gas I
 ndustry.\nFind Out More\n \nThree (3) training sessions available in 
 April, 2011:\nIndiana, PA (April 20th)\nRidgway, PA (April 21st)\nClar
 ion, PA (April 26th)\n \nSessions will fill up fast, register your em
 ployees now!\n\nFor more information visit https://gomarcellusshale.co
 m/events/gis-training-for-pennsylvania
DTSTART;TZID=Pacific/Midway:20110420T000000
DTEND;TZID=Pacific/Midway:20110420T235900
CATEGORIES:training
LOCATION:Pennsylvania
WEBSITE:
URL:
CONTACT:
ORGANIZER:Development Faction
ATTACH;FMTTYPE="image/jpeg":http://storage.ning.com/topology/rest/1.0/
 file/get/97588825?profile=original
ATTENDEE;ROLE=REQ-PARTICIPANT;PARTSTAT=ACCEPTED;RSVP=TRUE;CN="Matthew 
 Smith":https://gomarcellusshale.com/profile/MatthewSmith960
END:VEVENT
END:VCALENDAR
