BEGIN:VCALENDAR
PRODID:NingEventWidget-v1
VERSION:2.0
METHOD:PUBLISH
BEGIN:VTIMEZONE
TZID:Pacific/Midway
X-LIC-LOCATION:Pacific/Midway
BEGIN:STANDARD
TZOFFSETFROM:-1100
TZOFFSETTO:-1100
TZNAME:SST
DTSTART:19700101T000000
END:STANDARD
END:VTIMEZONE
BEGIN:VEVENT
UID:2274639:Event:417663
DTSTAMP:20260420T015402Z
SUMMARY:Global Energy Career Expo Aberdeen 2013
DESCRIPTION:The Global Energy Career Expo Aberdeen has been created to
  fill the recognised skills gap in the oil and gas industry by providi
 ng a crucial platform for jobseekers and recruiting companies to meet 
 and discuss the latest offshore and onshore employment opportunities.\
 n \nLeading organisations from across the oil and gas industry includ
 ing Saudi Aramco, Technip and Transocean will use the Expo as the plac
 e to network and meet thousands of qualified professionals who are act
 ively seeking recruitment opportunities for the next step in their car
 eer.\n\nKey Expo Features:\n-Thousands of qualified and experienced in
 dustry professionals visiting - Oil and Gas companies have the opportu
 nity to meet with thousands of qualified candidates over a two day per
 iod.\n -Active and passive jobseekers - Build company talent pools fo
 r future recruitment drives and meet with candidates companies will no
 t locate through traditional means.\n-Countless exhibitors - Candidate
 s have the opportunity to connect with hiring managers and recruiters 
 (face to face) from a multitude of companies all in a time effective w
 ay over two days\n-Companies present from international / national oil
  gas companies to smaller niche players - Candidates can find companie
 s with the right outlook for their personal objectives. Whether to sup
 port professional growth, or move to take enhanced skill sets to the n
 ext challenge, all the right players are exhibiting.\n \n\nFor more i
 nformation visit https://gomarcellusshale.com/events/global-energy-car
 eer-expo-aberdeen-2013
DTSTART;TZID=Pacific/Midway:20130612T100000
DTEND;TZID=Pacific/Midway:20130613T190000
CATEGORIES:exhibition, conference, oil, gas, careers, recruitment
LOCATION:Aberdeen Exhibition and Conference Centre, Aberdeen, United K
 ingdom
WEBSITE:http://www.globalenergycareerexpo.com/aberdeen
URL:http://www.globalenergycareerexpo.com/aberdeen
CONTACT:0044 (0) 203 615 0390
ORGANIZER:DMG Energy Events
ATTACH;FMTTYPE="image/jpeg":http://storage.ning.com/topology/rest/1.0/
 file/get/97602774?profile=original
ATTENDEE;ROLE=REQ-PARTICIPANT;PARTSTAT=ACCEPTED;RSVP=TRUE;CN="Laurence
  Allen":https://gomarcellusshale.com/profile/LaurenceAllen207
END:VEVENT
END:VCALENDAR
