BEGIN:VCALENDAR
PRODID:NingEventWidget-v1
VERSION:2.0
METHOD:PUBLISH
BEGIN:VTIMEZONE
TZID:Pacific/Midway
X-LIC-LOCATION:Pacific/Midway
BEGIN:STANDARD
TZOFFSETFROM:-1100
TZOFFSETTO:-1100
TZNAME:SST
DTSTART:19700101T000000
END:STANDARD
END:VTIMEZONE
BEGIN:VEVENT
UID:2274639:Event:405202
DTSTAMP:20260420T021737Z
SUMMARY:Great Lakes Truck Expo
DESCRIPTION:Visit www.greatlakestruckexpo.com or contact Beth Trnka at
  beth@greatlakestruckexpo.com\n \nThe annual GLTE is the premier show
  in Northeast Ohio with participation by major truck and engine manufa
 cturers, trailer manufacturers, truck body manufacturers and countless
  product and service suppliers. Also spotlighted at the two-day show w
 ill be the refuse, cement mixers and snow/ice vocations. Among the mor
 e than 3,000 expected GLTE attendees include senior level management f
 rom local and national companies representing the trucking industry.\n
  \nIn addition to these industry segments, the Great Lakes Truck Expo
  will focus on the latest advances in the Utica shale play in Ohio and
  information about the Natural Gas Industry. This information will ran
 ge from new engine technology, CNG and LNG options, education and trai
 ning which will define the trucking industry for years to come.\n \nT
 he GLTE will also offer multiple and varied educational sessions to in
 dustry attendees. The Office of Energy at the Ohio Development Service
 s Agency will be conducting an educational presentation on The Alterna
 tive Fuel Transportation Program. This is a new state program that imp
 roves air quality through financial assistance for the purchase and in
 stallation of alternative fuel refueling, blending, or distribution fa
 cilities and terminals.\n\nFor more information visit https://gomarcel
 lusshale.com/events/great-lakes-truck-expo
DTSTART;TZID=Pacific/Midway:20130918T000000
DTEND;TZID=Pacific/Midway:20130919T235900
CATEGORIES:truck, expo
LOCATION:Cleveland Convention Center
WEBSITE:http://www.greatlakestruckexpo.com
URL:http://www.greatlakestruckexpo.com
CONTACT:
ORGANIZER:Great Lakes Truck Expo
ATTACH;FMTTYPE="image/jpeg":http://storage.ning.com/topology/rest/1.0/
 file/get/97601891?profile=original
ATTENDEE;ROLE=REQ-PARTICIPANT;PARTSTAT=ACCEPTED;RSVP=TRUE;CN="Ashley M
 artin":https://gomarcellusshale.com/profile/AshleyMartin
END:VEVENT
END:VCALENDAR
