BEGIN:VCALENDAR
PRODID:NingEventWidget-v1
VERSION:2.0
METHOD:PUBLISH
BEGIN:VTIMEZONE
TZID:Pacific/Midway
X-LIC-LOCATION:Pacific/Midway
BEGIN:STANDARD
TZOFFSETFROM:-1100
TZOFFSETTO:-1100
TZNAME:SST
DTSTART:19700101T000000
END:STANDARD
END:VTIMEZONE
BEGIN:VEVENT
UID:2274639:Event:165564
DTSTAMP:20260425T120615Z
SUMMARY:Health Effects of Shale Gas Extraction Conference
DESCRIPTION:Hosted by the University of Pittsburgh Graduate School of 
 Public Health \nThis 2nd annual conference will explore the science a
 nd methodological approaches behind understanding environmental health
  impacts associated with increasing development of natural gas extract
 ion from shale deposits.\n \nThere is no cost to attend. Refreshments
  and lunch will be provided during the event. A light reception will f
 ollow. Registration is required. See website for registration instruct
 ions.\n\nFor more information visit https://gomarcellusshale.com/event
 s/health-effects-of-shale-gas-extraction-conference
DTSTART;TZID=Pacific/Midway:20111118T073000
DTEND;TZID=Pacific/Midway:20111118T170000
CATEGORIES:conference
LOCATION:Soldiers and Sailors Memorial Hall, Grand Ballroom (3rd Floor
 )
WEBSITE:http://shalegas.pitt.edu/
URL:http://shalegas.pitt.edu/
CONTACT:(412) 383-7540
ORGANIZER;CN="Sam Malone":https://gomarcellusshale.com/profile/SamMalo
 ne
ATTACH;FMTTYPE="image/jpeg":
ATTENDEE;ROLE=REQ-PARTICIPANT;PARTSTAT=ACCEPTED;RSVP=TRUE;CN="Sam Malo
 ne":https://gomarcellusshale.com/profile/SamMalone
END:VEVENT
END:VCALENDAR
