BEGIN:VCALENDAR
PRODID:NingEventWidget-v1
VERSION:2.0
METHOD:PUBLISH
BEGIN:VTIMEZONE
TZID:Pacific/Midway
X-LIC-LOCATION:Pacific/Midway
BEGIN:STANDARD
TZOFFSETFROM:-1100
TZOFFSETTO:-1100
TZNAME:SST
DTSTART:19700101T000000
END:STANDARD
END:VTIMEZONE
BEGIN:VEVENT
UID:2274639:Event:556175
DTSTAMP:20260423T135126Z
SUMMARY:Hydric Soil Indicators with a Virtual Field Workshop
DESCRIPTION:Learn about all of the latest updates to the US Army Corps
  of Engineers Hydric Soil Indicators in a virtual classroom and field 
 workshop setting.   This webinar will cover the three basic soil typ
 es which are the All Soils (Type A), Sandy Soils (Type S) and Loamy So
 ils (Type F).  We will present the most common indicator types found 
 in wetlands.  Learn about the how the presence of an aquic moisture r
 egime affects iron, manganese, sulfur and carbon and how these transla
 te into indicators. We will also discuss how soil texture impacts the 
 analysis of the Corps indicators. We will also present how excess carb
 on is a special type of hydric soil indicator.\nWe will take you on a 
 virtual field trip for several of these indicators types and show you 
 actual hydric soil features in the field.  This virtual field trip is
  recorded in high definition video and presents detailed visualization
 s of some of the most common soil indicator types.\nJoin us online on 
 April 24, 2014 from 1 to 3 PM EDT for a truly unique and educational h
 ydric soil indicator training experience.   If you cannot join us li
 ve we will also be making a complete recording of this webinar that yo
 u can watch at a later date.  When you sign-up for the webinar, we wi
 ll send you more information about the class and the rebroadcast.\nHur
 ry!  Due to the bandwidth requirements of the high definition broadca
 st we are limited in the number of live seats we can offer.  So, sign
  up today to ensure your seat in our webinar on April 24, 2014.\n\nFor
  more information visit https://gomarcellusshale.com/events/hydric-soi
 l-indicators-with-a-virtual-field-workshop
DTSTART;TZID=Pacific/Midway:20140424T130000
DTEND;TZID=Pacific/Midway:20140424T150000
CATEGORIES:virtual, online, workshop
LOCATION:The Swamp School
WEBSITE:http://swampschool.org
URL:http://swampschool.org
CONTACT:1-877-479-2673
ORGANIZER;CN="Marc Seelinger":https://gomarcellusshale.com/profile/Mar
 cSeelinger
ATTACH;FMTTYPE="image/jpeg":http://storage.ning.com/topology/rest/1.0/
 file/get/97608448?profile=original
ATTENDEE;ROLE=REQ-PARTICIPANT;PARTSTAT=ACCEPTED;RSVP=TRUE;CN="Marc See
 linger":https://gomarcellusshale.com/profile/MarcSeelinger
END:VEVENT
END:VCALENDAR
