BEGIN:VCALENDAR
PRODID:NingEventWidget-v1
VERSION:2.0
METHOD:PUBLISH
BEGIN:VTIMEZONE
TZID:Pacific/Midway
X-LIC-LOCATION:Pacific/Midway
BEGIN:STANDARD
TZOFFSETFROM:-1100
TZOFFSETTO:-1100
TZNAME:SST
DTSTART:19700101T000000
END:STANDARD
END:VTIMEZONE
BEGIN:VEVENT
UID:2274639:Event:78421
DTSTAMP:20260424T161141Z
SUMMARY:Informational Expo
DESCRIPTION:This Informational Expo is an intiative to provide both bu
 sinesses and land owners a matchmaking, networking, and informational-
 gathering opportunity.\n\nFor more information visit https://gomarcell
 usshale.com/events/informational-expo
DTSTART;TZID=Pacific/Midway:20110518T100000
DTEND;TZID=Pacific/Midway:20110518T190000
CATEGORIES:informational, expo
LOCATION:Carnes Convention Center
WEBSITE:http://www.jamescarnescenter.com
URL:http://www.jamescarnescenter.com
CONTACT:412-228-1546
ORGANIZER;CN="Arlette Baran":https://gomarcellusshale.com/profile/Arle
 tteBaran
ATTACH;FMTTYPE="image/jpeg":
ATTENDEE;ROLE=REQ-PARTICIPANT;PARTSTAT=ACCEPTED;RSVP=TRUE;CN="Arlette 
 Baran":https://gomarcellusshale.com/profile/ArletteBaran
END:VEVENT
END:VCALENDAR
