BEGIN:VCALENDAR
PRODID:NingEventWidget-v1
VERSION:2.0
METHOD:PUBLISH
BEGIN:VTIMEZONE
TZID:Pacific/Midway
X-LIC-LOCATION:Pacific/Midway
BEGIN:STANDARD
TZOFFSETFROM:-1100
TZOFFSETTO:-1100
TZNAME:SST
DTSTART:19700101T000000
END:STANDARD
END:VTIMEZONE
BEGIN:VEVENT
UID:2274639:Event:3875
DTSTAMP:20260425T171225Z
SUMMARY:IOGA-West Virginia  Winter Meeting
DESCRIPTION:Winter meeting of the Independent Oil & Gas Assoc. of West
  Virginia to be held Feb. 25-26, 2009 at the Charleston Marriot in Cha
 rleston, WV. Visit this link for more information: http://www.iogawv.c
 om/meetings.cfm\n\nFor more information visit https://gomarcellusshale
 .com/events/iogawest-virginia-winter
DTSTART;TZID=Pacific/Midway:20090225T000000
DTEND;TZID=Pacific/Midway:20090226T235900
CATEGORIES:winter, meeting
LOCATION:Charleston Marriot
WEBSITE:http://www.iogawv.com/meetings.cfm
URL:http://www.iogawv.com/meetings.cfm
CONTACT:304-344-9867
ORGANIZER:IOGA-WV
ATTACH;FMTTYPE="image/jpeg":http://storage.ning.com/topology/rest/1.0/
 file/get/97586359?profile=original
ATTENDEE;ROLE=REQ-PARTICIPANT;PARTSTAT=ACCEPTED;RSVP=TRUE;CN="Danny R.
  Watkins":https://gomarcellusshale.com/profile/DannyRWatkins
END:VEVENT
END:VCALENDAR
