BEGIN:VCALENDAR
PRODID:NingEventWidget-v1
VERSION:2.0
METHOD:PUBLISH
BEGIN:VTIMEZONE
TZID:Pacific/Midway
X-LIC-LOCATION:Pacific/Midway
BEGIN:STANDARD
TZOFFSETFROM:-1100
TZOFFSETTO:-1100
TZNAME:SST
DTSTART:19700101T000000
END:STANDARD
END:VTIMEZONE
BEGIN:VEVENT
UID:2274639:Event:276027
DTSTAMP:20260424T124923Z
SUMMARY:Is Eminent Domain Coming to Your County?
DESCRIPTION:Please attend a free Public Information Meeting to learn a
 bout construction of the Transco Atlantic Access Pipeline Project.\nTh
 e panel will discuss negotiation of pipeline easements and rights-of-w
 ay, eminent domain, the Transco Pipeline Project, and pipeline constru
 ction and safety issues.\n\nFor more information visit https://gomarce
 llusshale.com/events/is-eminent-domain-coming-to-your-county
DTSTART;TZID=Pacific/Midway:20120421T143000
DTEND;TZID=Pacific/Midway:20120421T170000
CATEGORIES:public, informational, meeting
LOCATION:Fayette Chamber of Commerce
WEBSITE:http://maps.google.com/maps?q=65+west+main+street+uniontown+pa
 &hl=en&sll=37.0625,-95.677068&sspn=24.37547,35.771484&t=h&hnear=65+W+M
 ain+St,+Uniontown,+Pennsylvania+15401&z=15
URL:http://maps.google.com/maps?q=65+west+main+street+uniontown+pa&hl=
 en&sll=37.0625,-95.677068&sspn=24.37547,35.771484&t=h&hnear=65+W+Main+
 St,+Uniontown,+Pennsylvania+15401&z=15
CONTACT:724.420.4040
ORGANIZER;CN="Steven A. Walton":https://gomarcellusshale.com/profile/S
 tevenAWalton
ATTACH;FMTTYPE="image/jpeg":http://storage.ning.com/topology/rest/1.0/
 file/get/97596462?profile=original
ATTENDEE;ROLE=REQ-PARTICIPANT;PARTSTAT=ACCEPTED;RSVP=TRUE;CN="Steven A
 . Walton":https://gomarcellusshale.com/profile/StevenAWalton
END:VEVENT
END:VCALENDAR
