BEGIN:VCALENDAR
PRODID:NingEventWidget-v1
VERSION:2.0
METHOD:PUBLISH
BEGIN:VTIMEZONE
TZID:Pacific/Midway
X-LIC-LOCATION:Pacific/Midway
BEGIN:STANDARD
TZOFFSETFROM:-1100
TZOFFSETTO:-1100
TZNAME:SST
DTSTART:19700101T000000
END:STANDARD
END:VTIMEZONE
BEGIN:VEVENT
UID:2274639:Event:516053
DTSTAMP:20260420T133619Z
SUMMARY:LANDOWNER INFORMATIONAL MEETING - OHIO
DESCRIPTION:No longer ignored! SE Tuscarawas County, SW Harrison and N
 E Guernsey Counties - First meeting, called by Chris White, Esq. - ser
 ving only LandOwners (not the Gas, Oil, Pipeline Companies!) \n\nFor 
 more information visit https://gomarcellusshale.com/events/landowner-i
 nformational-meeting-ohio
DTSTART;TZID=Pacific/Midway:20131112T190000
DTEND;TZID=Pacific/Midway:20131112T203000
CATEGORIES:informationl, meeting, plus, news, on, recent, evacuation, 
 due, to, 4, gas, "leaks!"
LOCATION:Perry Township Community Center
WEBSITE:http://www.TheWhiteLawOffice.com
URL:http://www.TheWhiteLawOffice.com
CONTACT:330.230.9098
ORGANIZER:al raptoria (just passing along the invitation)
ATTACH;FMTTYPE="image/jpeg":
ATTENDEE;ROLE=REQ-PARTICIPANT;PARTSTAT=ACCEPTED;RSVP=TRUE;CN="al rapto
 ria":https://gomarcellusshale.com/profile/alraptoria
END:VEVENT
END:VCALENDAR
