BEGIN:VCALENDAR
PRODID:NingEventWidget-v1
VERSION:2.0
METHOD:PUBLISH
BEGIN:VTIMEZONE
TZID:Pacific/Midway
X-LIC-LOCATION:Pacific/Midway
BEGIN:STANDARD
TZOFFSETFROM:-1100
TZOFFSETTO:-1100
TZNAME:SST
DTSTART:19700101T000000
END:STANDARD
END:VTIMEZONE
BEGIN:VEVENT
UID:2274639:Event:634513
DTSTAMP:20260424T133329Z
SUMMARY:Landowner Meeting
DESCRIPTION:Gas Lease  Group Meeting for Tioga and Potter County Land
 owners. Information on the latest activity presented by Jackie Root, C
 MM and Attorney Lester Greevy Jr..\n\nFor more information visit https
 ://gomarcellusshale.com/events/landowner-meeting
DTSTART;TZID=Pacific/Midway:20141029T183000
DTEND;TZID=Pacific/Midway:20141029T210000
CATEGORIES:landowner, education
LOCATION:Lawrenceville Fire Hall
WEBSITE:
URL:
CONTACT:570-537-3829
ORGANIZER;CN="Jackie Root-CMM":https://gomarcellusshale.com/profile/Ja
 ckieRoot
ATTACH;FMTTYPE="image/jpeg":
ATTENDEE;ROLE=REQ-PARTICIPANT;PARTSTAT=ACCEPTED;RSVP=TRUE;CN="James Yo
 ung":https://gomarcellusshale.com/profile/JamesYoung
ATTENDEE;ROLE=REQ-PARTICIPANT;PARTSTAT=ACCEPTED;RSVP=TRUE;CN="Jackie R
 oot-CMM":https://gomarcellusshale.com/profile/JackieRoot
END:VEVENT
END:VCALENDAR
