BEGIN:VCALENDAR
PRODID:NingEventWidget-v1
VERSION:2.0
METHOD:PUBLISH
BEGIN:VTIMEZONE
TZID:Pacific/Midway
X-LIC-LOCATION:Pacific/Midway
BEGIN:STANDARD
TZOFFSETFROM:-1100
TZOFFSETTO:-1100
TZNAME:SST
DTSTART:19700101T000000
END:STANDARD
END:VTIMEZONE
BEGIN:VEVENT
UID:2274639:Event:523648
DTSTAMP:20260420T211856Z
SUMMARY:Lean Manufacturing Leader Workshop
DESCRIPTION:Lean Manufacturing Leader\nDuration:Â  5 days\nLocation:Â 
  Williamsport, PA.\nDates:Â  February 17-21, 2014\nDescription: The Le
 an Manufacturing Leader certification course teaches students how to m
 ake improvements using the proven Lean methodology.Â  Over 16 tools an
 d concepts are taught to allow students to gain an understanding of Le
 an Manufacturing. This course is designed for those individuals in you
 r organization who are expected to allocate a portion of their time to
  continuous improvement efforts. This course will help them become pro
 ductive team leaders and process improvement professionals, which will
  improve your business dramatically.Â Â Â  The typical Lean Manufactur
 ing leader will implement two or more process improvements a year that
  will save an organization $10,000 - $90,000.\nAll students will recei
 ve the following: â€¢Â Â  Â Lean Manufacturing course books. â€¢Â Â  Â
  All necessary forms and templates needed to make process improvements
  â€¢Â Â  Â Introduction to Lean and 5S videos\nFeatures:\n\nTraining i
 s structured with many exercises to allow students an opportunity to l
 earn the tools.\nSpecial emphasis on application of Lean Manufacturing
  in the Energy Industry.\n\nCurriculum:\nâ€¢Â Â  Â Lean Manufacturing 
 Overview â€¢Â Â  Â Lean Manufacturing Organizational Structure â€¢Â Â 
  Â Project Charter â€¢Â Â  Â Processes and SIPOC Diagram â€¢Â Â  Â Col
 lecting and Analyzing Data â€¢Â Â  Â Process Mapping â€¢Â Â  Â 7 Deadl
 y Wastes & Process Analysis â€¢Â Â  Â Failure Modes and Effects Analys
 is â€¢Â Â  Â Developing Solutions â€¢Â Â  Â Improving Flow â€¢Â Â  Â Q
 uick Changeover â€¢Â Â  Â 5S (Workplace Organization) â€¢Â Â  Â Implem
 enting Solutions â€¢Â Â  Â Kaizens â€¢Â Â  Â Value Stream Mapping â€¢Â
  Â  Â Control Systems\n\nFor more information visit https://gomarcellu
 sshale.com/events/lean-manufacturing-leader-workshop
DTSTART;TZID=Pacific/Midway:20140217T000000
DTEND;TZID=Pacific/Midway:20140221T235900
CATEGORIES:lean, six, sigma, workshop
LOCATION:Environmental Solutions Association
WEBSITE:https://kg159.infusionsoft.com/app/storeFront/showProductDetai
 l?productId=30
URL:https://kg159.infusionsoft.com/app/storeFront/showProductDetail?pr
 oductId=30
CONTACT:919-744-7091
ORGANIZER:Lucas Jerden
ATTACH;FMTTYPE="image/jpeg":http://storage.ning.com/topology/rest/1.0/
 file/get/97607255?profile=original
ATTENDEE;ROLE=REQ-PARTICIPANT;PARTSTAT=ACCEPTED;RSVP=TRUE;CN="Marc See
 linger":https://gomarcellusshale.com/profile/MarcSeelinger
END:VEVENT
END:VCALENDAR
