BEGIN:VCALENDAR
PRODID:NingEventWidget-v1
VERSION:2.0
METHOD:PUBLISH
BEGIN:VTIMEZONE
TZID:Pacific/Midway
X-LIC-LOCATION:Pacific/Midway
BEGIN:STANDARD
TZOFFSETFROM:-1100
TZOFFSETTO:-1100
TZNAME:SST
DTSTART:19700101T000000
END:STANDARD
END:VTIMEZONE
BEGIN:VEVENT
UID:2274639:Event:272249
DTSTAMP:20260424T141047Z
SUMMARY:Lease expired and \"shut-in\" or held by production w/o actual
  production
DESCRIPTION:Meeting to discuss discuss the facts and lease terms that 
 apply to Shell's claim that leases in drilling units with a vertical w
 ell remain in force even though the primary term of the lease has expi
 red.  We will also discuss efforts to form a land owners group to eng
 age Shell on this issue.   The meeting is open to the public and I en
 courage anyone who has a lease that has been put in a Shell drilling u
 nit and the original 5 or 10 year term has expired (or will expire in 
 the next 12 months) to attend.  If you are unable to attend or have q
 uestions, please feel free to contact me at sfbrion@tiogaresources.com
 \n\nFor more information visit https://gomarcellusshale.com/events/lea
 se-expired-and-shut-in-or-held-by-production-w-o-actual
DTSTART;TZID=Pacific/Midway:20120417T190000
DTEND;TZID=Pacific/Midway:20120417T203000
CATEGORIES:public, meeting, for, landowners, with, shell, "(east", "re
 sources)", owned, leases, that, have, expired, primary, term
LOCATION:Blossburg Memorial Library - Community Room, 307 Main Street,
  Blossburg, PA 16912
WEBSITE:
URL:
CONTACT:
ORGANIZER;CN="scott brion":https://gomarcellusshale.com/profile/sfbrio
 n
ATTACH;FMTTYPE="image/jpeg":
ATTENDEE;ROLE=REQ-PARTICIPANT;PARTSTAT=ACCEPTED;RSVP=TRUE;CN="scott br
 ion":https://gomarcellusshale.com/profile/sfbrion
END:VEVENT
END:VCALENDAR
