BEGIN:VCALENDAR
PRODID:NingEventWidget-v1
VERSION:2.0
METHOD:PUBLISH
BEGIN:VTIMEZONE
TZID:Pacific/Midway
X-LIC-LOCATION:Pacific/Midway
BEGIN:STANDARD
TZOFFSETFROM:-1100
TZOFFSETTO:-1100
TZNAME:SST
DTSTART:19700101T000000
END:STANDARD
END:VTIMEZONE
BEGIN:VEVENT
UID:2274639:Event:239537
DTSTAMP:20260425T014703Z
SUMMARY:LEASING FARMLAND FOR OIL
DESCRIPTION:Public Event in Vinton County: The Process & Impacts of Ho
 rizontal Drilling and Leasing Farmland for Oil\nPosted on January 9, 
 2012 | Leave a comment\n\n\nVinton county OSU Extension and Vinton Cou
 nty SWCD are hosting a meeting on The Process & Impacts of Horizontal 
 Drilling and Leasing Farmland for Oil 2/22/12 in McArthur. If you have
  not seen Chris or Clif present, you may want to attend this meeting. 
 They do a fantastic job covering the basics of Hydraulic Fracturing, L
 easing Information, and what they have learned from Eastern Ohio and f
 rom colleagues in Pennsylvania. Reservations are required.\nDetails:\n
 Wednesday, February 22, 20126:30-8:30 PM at the Community Building in 
 McArthur 31935 State Route 93Leasing farmland for oil & gas production
  is experiencing a revitalization.Speculators and land brokers are att
 empting to secure leases of large blocks ofland. Leasing and drilling 
 activity is expected to increase in our area.This educational workshop
  has been developed to help landowners better understandan Oil & Gas L
 ease, the process and the impacts of drilling.\nPresenters:Clif Little
 , Extension Educator, Guernsey Co.Chris Penrose, Extension Educator, M
 organ Co.\nRESERVATIONS REQUIRED:Call OSU Extension, Vinton County (59
 6-5212) orVinton SWCD (596-5676) by February 17th~~~~~~~~~~~~~~This pr
 ogram is for educational purposes only.\n\n\n\nFor more information vi
 sit https://gomarcellusshale.com/events/leasing-farmland-for-oil
DTSTART;TZID=Pacific/Midway:20120222T183000
DTEND;TZID=Pacific/Midway:20120222T203000
CATEGORIES:educational
LOCATION:Community Building in Mc Arthur 31935 State Route 93
WEBSITE:
URL:
CONTACT:
ORGANIZER:Vinton Osu Extension & Vinton County SWCDby Annette Kocka On
  Marcellus shale site
ATTACH;FMTTYPE="image/jpeg":
ATTENDEE;ROLE=REQ-PARTICIPANT;PARTSTAT=ACCEPTED;RSVP=TRUE;CN="Elk Town
 ship Resident":https://gomarcellusshale.com/profile/AnnetteKocka
END:VEVENT
END:VCALENDAR
