BEGIN:VCALENDAR
PRODID:NingEventWidget-v1
VERSION:2.0
METHOD:PUBLISH
BEGIN:VTIMEZONE
TZID:Pacific/Midway
X-LIC-LOCATION:Pacific/Midway
BEGIN:STANDARD
TZOFFSETFROM:-1100
TZOFFSETTO:-1100
TZNAME:SST
DTSTART:19700101T000000
END:STANDARD
END:VTIMEZONE
BEGIN:VEVENT
UID:2274639:Event:270313
DTSTAMP:20260424T053915Z
SUMMARY:Live Auction! Private 2-story Log Home in Marcellus Shale Gas 
 Play
DESCRIPTION:Private 2-story Log Home in White Birch Acres\n \nSunday,
  May 6 at 2 PM\nAuction Location: 40 Frost Rd. Wellsboro, PA 16901\n 
 \nBid on this beautiful two-story log home nestled in the mountains be
 tween Mansfield and Wellsboro, PA, in the Marcellus Shale gas play. Th
 is rustic charmer boasts 2,466 square feet, three to four bedrooms, tw
 o and a half bathrooms, a great room with vaulted ceiling, a full walk
 -out basement and dual heat sources. It rests in a private\ncul-de-sac
  in the woods just half mile from a state park for fishing, swimming, 
 camping and more – or walk to State Game Lands #37.\n \n570-835-421
 4 ● JelliffAuctionGroup.com\n \nTerms:  Offered subject to confirm
 ation. 10% down at close of bidding, balance due at closing within 30 
 days. 10% buyer’s premium added to winning bid. Broker participation
  invited – call for details. Bid online at proxibid.com\nRandy Jelli
 ff, Lic. AY002188.\n \nUnited Country – Jelliff Auction Group\nRand
 y Jelliff\n95 Longbow Lane\nTioga, PA 16946\n\nFor more information vi
 sit https://gomarcellusshale.com/events/live-auction-private-2-story-l
 og-home-in-marcellus-shale-gas-play
DTSTART;TZID=Pacific/Midway:20120506T140000
DTEND;TZID=Pacific/Midway:20120506T141500
CATEGORIES:live, auction
LOCATION:On-site
WEBSITE:
URL:
CONTACT:
ORGANIZER;CN="Ashley Duffy":https://gomarcellusshale.com/profile/Ashle
 yDuffy
ATTACH;FMTTYPE="image/jpeg":http://storage.ning.com/topology/rest/1.0/
 file/get/97595862?profile=original
ATTENDEE;ROLE=REQ-PARTICIPANT;PARTSTAT=ACCEPTED;RSVP=TRUE;CN="Ashley D
 uffy":https://gomarcellusshale.com/profile/AshleyDuffy
END:VEVENT
END:VCALENDAR
