BEGIN:VCALENDAR
PRODID:NingEventWidget-v1
VERSION:2.0
METHOD:PUBLISH
BEGIN:VTIMEZONE
TZID:Pacific/Midway
X-LIC-LOCATION:Pacific/Midway
BEGIN:STANDARD
TZOFFSETFROM:-1100
TZOFFSETTO:-1100
TZNAME:SST
DTSTART:19700101T000000
END:STANDARD
END:VTIMEZONE
BEGIN:VEVENT
UID:2274639:Event:200779
DTSTAMP:20260425T102130Z
SUMMARY:Live Real Estate Auction Mansfield, PA
DESCRIPTION:LIVE REAL ESTATE AUCTION\nSaturday, December 17 at 10 AM\n
 Auction Location: On-site 97 Morris Ave., Mansfield, PA 16933\n \nOpe
 n House: Open House: Sun., Dec. 4 from 12 to 2 PM\n \nHere is a great
  opportunity to own a home on 3.5± acres in the rapid growth area of 
 the Marcellus Shale. This house features 5 bedrooms, 2 stories, a deck
 , a carport and a detached carriage house/garage – all on 3.5± acre
 s in the Mansfield Borough. The level, open lot has frontage on both M
 orris Ave. and Meadow St., plus it borders U.S. Army Corps of Engineer
 s land on the north. Municipal water and sewer available. Enjoy a wond
 erful location within\nwalking distance to downtown and Mansfield Univ
 ersity. You will find loads of investment potential here!\n \n570-835
 -4214 ● JelliffAuctionGroup.com\n \nTERMS: Offered subject to owner
 ’s confirmation. 10% down at close of bidding,\nbalance due at closi
 ng within 30 days. 10% buyer’s premium. Full terms day of auction. #
 AY002188\n \nUnited Country – Jelliff Auction Group\nRandy Jelliff\
 n95 Longbow Lane\nTioga, PA 16946\n\nFor more information visit https:
 //gomarcellusshale.com/events/live-real-estate-auction-mansfield-pa
DTSTART;TZID=Pacific/Midway:20111217T100000
DTEND;TZID=Pacific/Midway:20111217T110000
CATEGORIES:auction
LOCATION:On-site
WEBSITE:http://www.jelliffauctiongroup.com/property.aspx?item=00018&ag
 ency=37046
URL:http://www.jelliffauctiongroup.com/property.aspx?item=00018&agency
 =37046
CONTACT:570-835-4214
ORGANIZER:Randy Jelliff
ATTACH;FMTTYPE="image/jpeg":http://storage.ning.com/topology/rest/1.0/
 file/get/97591582?profile=original
ATTENDEE;ROLE=REQ-PARTICIPANT;PARTSTAT=ACCEPTED;RSVP=TRUE;CN="Jill Vau
 ghan":https://gomarcellusshale.com/profile/JillVaughan
END:VEVENT
END:VCALENDAR
