BEGIN:VCALENDAR
PRODID:NingEventWidget-v1
VERSION:2.0
METHOD:PUBLISH
BEGIN:VTIMEZONE
TZID:Pacific/Midway
X-LIC-LOCATION:Pacific/Midway
BEGIN:STANDARD
TZOFFSETFROM:-1100
TZOFFSETTO:-1100
TZNAME:SST
DTSTART:19700101T000000
END:STANDARD
END:VTIMEZONE
BEGIN:VEVENT
UID:2274639:Event:491564
DTSTAMP:20260420T194501Z
SUMMARY:LNG 360⁰ Forum (Latin America & Caribbean)
DESCRIPTION:With natural gas being the cleanest, most efficient fuel, 
 innovation surrounding the integration of LNG with power generation to
 day is growing. Countries including Colombia, Chile, Argentina and Uru
 guay have now implemented LNG within their energy matrix and neighbori
 ng regions are in close pursuit, catapulting Latin America as one of t
 he world’s fastest growing LNG markets.\nCentral American countries 
 and their Caribbean counterparts are also forging ahead with promoting
  LNG as a viable energy supply for their respective markets.\nThe LNG 
 360° Latin America and Caribbean Forum 2013 was a great success, brin
 ging together over 100 high profile industry leaders from Latin Americ
 a, Central America, North America and the Caribbean to discuss the lat
 est developments, disclose the current projects, debate the feasibilit
 y and forecast the future of LNG within the region.\nThe second annual
  LNG 360° Latin America & Caribbean Forum will uncover the strategic 
 and commercial opportunities related to LNG projects, particularly in 
 light of the increased demand for diversification. This timely Forum w
 ill be bringing together the major producers – importers and exporte
 rs, members of the government, project investors, shippers and all oth
 er major stakeholders together to share their insights on promoting LN
 G projects and partnerships in the Americas.\nKey topics that will be 
 discussed include:\nEvaluating how LNG can be strengthened as a major 
 source of energy in – Uncovering the current project developments wi
 thin Latin America.\nExploring the Role of FSRUs – To what extent ca
 n FSRUs provide the solution for sustaining the energy market in Latin
  America and the Caribbean?\nIdentifying the measures that need to be 
 taken to facilitate small scale LNG supply and meet the demands of sma
 ller markets.\nAssessing the future of LNG export in the North America
 n marketplace and its direct impact on both Latin America and the Cari
 bbean.\n\nFor more information visit https://gomarcellusshale.com/even
 ts/lng-360-forum-latin-america-caribbean
DTSTART;TZID=Pacific/Midway:20140114T210000
DTEND;TZID=Pacific/Midway:20140116T163000
CATEGORIES:conference
LOCATION:Omni Houston Hotel
WEBSITE:http://www.omnihotels.com/
URL:http://www.omnihotels.com/
CONTACT:
ORGANIZER:dmg :: events
ATTACH;FMTTYPE="image/jpeg":
ATTENDEE;ROLE=REQ-PARTICIPANT;PARTSTAT=ACCEPTED;RSVP=TRUE;CN="Daisy Co
 llins":https://gomarcellusshale.com/profile/DaisyCollins
END:VEVENT
END:VCALENDAR
