BEGIN:VCALENDAR
PRODID:NingEventWidget-v1
VERSION:2.0
METHOD:PUBLISH
BEGIN:VTIMEZONE
TZID:Pacific/Midway
X-LIC-LOCATION:Pacific/Midway
BEGIN:STANDARD
TZOFFSETFROM:-1100
TZOFFSETTO:-1100
TZNAME:SST
DTSTART:19700101T000000
END:STANDARD
END:VTIMEZONE
BEGIN:VEVENT
UID:2274639:Event:8701
DTSTAMP:20260425T154215Z
SUMMARY:Marcellus Event at Frostburg State
DESCRIPTION:An information program about drilling for natural gas in M
 arcellus shale is scheduled June 23 from 11:30 a.m. to 1:30 p.m. in Co
 mpton Science Center, Frostburg State University.\n\nCost is $20, whic
 h includes lunch. To reserve your spot, please send a check made payab
 le to Frostburg State University to me using the address below.\n\nLin
 da Steele\nFrostburg State University\nCollege of Liberal Arts and Sci
 ences\n101 Braddock Road\nFrostburg, MD 21532\nPhone: (301) 687-4137\n
 Fax: 301-687-3084\nlsteele@frostburg.edu\n\nFor more information visit
  https://gomarcellusshale.com/events/marcellus-event-at-frostburg
DTSTART;TZID=Pacific/Midway:20090623T113000
DTEND;TZID=Pacific/Midway:20090623T133000
CATEGORIES:shale, event
LOCATION:Frostburg State
WEBSITE:http://docs.google.com/gview?a=v&pid=gmail&attid=0.1&thid=1218
 cc555374ca20&mt=application%2Fpdf&pli=1
URL:http://docs.google.com/gview?a=v&pid=gmail&attid=0.1&thid=1218cc55
 5374ca20&mt=application%2Fpdf&pli=1
CONTACT:
ORGANIZER;CN="Keith Mauck (Site Publisher)":https://gomarcellusshale.c
 om/profile/marcellus_shale
ATTACH;FMTTYPE="image/jpeg":
ATTENDEE;ROLE=REQ-PARTICIPANT;PARTSTAT=ACCEPTED;RSVP=TRUE;CN="Jim Walt
 ers":https://gomarcellusshale.com/profile/JimWalters
ATTENDEE;ROLE=REQ-PARTICIPANT;PARTSTAT=ACCEPTED;RSVP=TRUE;CN=Charles:h
 ttps://gomarcellusshale.com/profile/Charles
ATTENDEE;ROLE=REQ-PARTICIPANT;PARTSTAT=ACCEPTED;RSVP=TRUE;CN="Keith Ma
 uck (Site Publisher)":https://gomarcellusshale.com/profile/marcellus_s
 hale
ATTENDEE;ROLE=REQ-PARTICIPANT;PARTSTAT=TENTATIVE;RSVP=TRUE;CN="Allie S
 herwood":https://gomarcellusshale.com/profile/AllieSherwood
ATTENDEE;ROLE=REQ-PARTICIPANT;PARTSTAT=TENTATIVE;RSVP=TRUE;CN="Stuart 
 A. Vosburg":https://gomarcellusshale.com/profile/StuartAVosburg
ATTENDEE;ROLE=REQ-PARTICIPANT;PARTSTAT=TENTATIVE;RSVP=TRUE;CN="Stephen
  W. Hodgkins":https://gomarcellusshale.com/profile/StephenWHodgkins
END:VEVENT
END:VCALENDAR
