BEGIN:VCALENDAR
PRODID:NingEventWidget-v1
VERSION:2.0
METHOD:PUBLISH
BEGIN:VTIMEZONE
TZID:Pacific/Midway
X-LIC-LOCATION:Pacific/Midway
BEGIN:STANDARD
TZOFFSETFROM:-1100
TZOFFSETTO:-1100
TZNAME:SST
DTSTART:19700101T000000
END:STANDARD
END:VTIMEZONE
BEGIN:VEVENT
UID:2274639:Event:72494
DTSTAMP:20260425T034356Z
SUMMARY:Marcellus Landowners Workshop Franklin Pa.
DESCRIPTION:Marcellus Gas Landowners Educational Workshop. Franklin , 
 PA Quality Inn Convention Center \nTopics covered : Lease negotiation
 s, royalty rights estate planning, sudden wealth protection and wealth
  transfer strategies. Speakers; Team Marcellus -Bob Bruce CIMA®, CIMC
 ®AIF® Integrity Wealth Consulting LLC, Phillip Goldblum and Steven S
 ablowsky of the Law firm Goldblum Sablowsky LLC.\n \nIntegrity Wealth
  Consulting, LLC\n101 Bradford Rd, Suite 210\nWexford, PA 15090\n \nT
 el: (724)940-9060\nE-mail: iwc@iwcnow.com\n \n \nThis communication 
 is strictly intended for individuals residing in the states of CA, CT,
  DC, DE, FL, IA, IN, MN, MS, NC, NH, NM, NY, OH, OR, PA, SC, TN, TX, V
 A, WV. No offers may be made or accepted from any resident outside the
 se states due to various state regulations and registration requiremen
 ts regarding investment products and services.\nSecurities and Advisor
 y Services offered through Commonwealth Financial Network®, the firm 
 ranked “Highest in Independent Advisor Satisfaction among Financial 
 Investment Firms” by J.D. Power and Associates.  Member FINRA (www.
 finra.org), SIPC (www.sipc.org), a Registered Investment Adviser.  In
 tegrity Wealth Consulting LLC and Commonwealth Financial Network are n
 ot affiliated with Goldblum Sablowsky LLC.\n\nFor more information vis
 it https://gomarcellusshale.com/events/marcellus-landowners-workshop
DTSTART;TZID=Pacific/Midway:20110331T190000
DTEND;TZID=Pacific/Midway:20110331T220000
CATEGORIES:educational, workshop
LOCATION:Quality Inn  Franklin Pa.
WEBSITE:http://www.teammarcellus.com
URL:http://www.teammarcellus.com
CONTACT:724-940-9060
ORGANIZER;CN="Bob Bruce":https://gomarcellusshale.com/profile/robertbr
 uce
ATTACH;FMTTYPE="image/jpeg":
ATTENDEE;ROLE=REQ-PARTICIPANT;PARTSTAT=ACCEPTED;RSVP=TRUE;CN="Bob Bruc
 e":https://gomarcellusshale.com/profile/robertbruce
END:VEVENT
END:VCALENDAR
