BEGIN:VCALENDAR
PRODID:NingEventWidget-v1
VERSION:2.0
METHOD:PUBLISH
BEGIN:VTIMEZONE
TZID:Pacific/Midway
X-LIC-LOCATION:Pacific/Midway
BEGIN:STANDARD
TZOFFSETFROM:-1100
TZOFFSETTO:-1100
TZNAME:SST
DTSTART:19700101T000000
END:STANDARD
END:VTIMEZONE
BEGIN:VEVENT
UID:2274639:Event:61217
DTSTAMP:20260424T160513Z
SUMMARY:Marcellus Shale and Year End Tax Planning
DESCRIPTION:Sponsored by Penn State Cooperative Extension and PA Insti
 tute of CPA's\nSpeakers include Extension, CPA, legal and financial ma
 nagement experts who will disucss strategies for year-end tax planning
 , estate planning options, and sudden wealth management.\n \n\nFor mo
 re information visit https://gomarcellusshale.com/events/marcellus-sha
 le-and-year-end
DTSTART;TZID=Pacific/Midway:20101215T190000
DTEND;TZID=Pacific/Midway:20101215T210000
CATEGORIES:informational
LOCATION:Greensburg Garden & Civic Center
WEBSITE:http://extension.psu.edu/naturalgas/events/marcellus-shale-and
 -year-end-tax-planning-2
URL:http://extension.psu.edu/naturalgas/events/marcellus-shale-and-yea
 r-end-tax-planning-2
CONTACT:
ORGANIZER:Westmoreland County Cooperative Extension
ATTACH;FMTTYPE="image/jpeg":
ATTENDEE;ROLE=REQ-PARTICIPANT;PARTSTAT=ACCEPTED;RSVP=TRUE;CN="Michael 
 Reese":https://gomarcellusshale.com/profile/MichaelReese
END:VEVENT
END:VCALENDAR
