BEGIN:VCALENDAR
PRODID:NingEventWidget-v1
VERSION:2.0
METHOD:PUBLISH
BEGIN:VTIMEZONE
TZID:Pacific/Midway
X-LIC-LOCATION:Pacific/Midway
BEGIN:STANDARD
TZOFFSETFROM:-1100
TZOFFSETTO:-1100
TZNAME:SST
DTSTART:19700101T000000
END:STANDARD
END:VTIMEZONE
BEGIN:VEVENT
UID:2274639:Event:56449
DTSTAMP:20260424T232833Z
SUMMARY:Marcellus Shale Informative Seminar
DESCRIPTION:I hve put together a seminar which includes all aspects of
  the Marcellus Shale Drilling. Speakers include a local drilling compa
 ny, Land attorney specializing in drilling leases, CPA for tax consequ
 ence information and Estate attorney to provide information about prot
 ecting and preserving your wealth. We are allowing time at the end for
  any individual questions to be directed to the appropriate person.\n\
 nFor more information visit https://gomarcellusshale.com/events/marcel
 lus-shale-informative
DTSTART;TZID=Pacific/Midway:20101118T180000
DTEND;TZID=Pacific/Midway:20101118T200000
CATEGORIES:two, seminar, times, 1pm, "&", 6pm
LOCATION:Cambria Suites Hotel 451 Racetrack Rd. Washington, PA 15301 -
  Located at the entrance of Tanger Outlets
WEBSITE:
URL:
CONTACT:
ORGANIZER;CN="Sondra Fisher":https://gomarcellusshale.com/profile/Sond
 raFisher
ATTACH;FMTTYPE="image/jpeg":
ATTENDEE;ROLE=REQ-PARTICIPANT;PARTSTAT=ACCEPTED;RSVP=TRUE;CN="Sondra F
 isher":https://gomarcellusshale.com/profile/SondraFisher
ATTENDEE;ROLE=REQ-PARTICIPANT;PARTSTAT=TENTATIVE;RSVP=TRUE;CN="Gary A.
  Stell Sr.":https://gomarcellusshale.com/profile/GaryAStellSr
END:VEVENT
END:VCALENDAR
