BEGIN:VCALENDAR
PRODID:NingEventWidget-v1
VERSION:2.0
METHOD:PUBLISH
BEGIN:VTIMEZONE
TZID:Pacific/Midway
X-LIC-LOCATION:Pacific/Midway
BEGIN:STANDARD
TZOFFSETFROM:-1100
TZOFFSETTO:-1100
TZNAME:SST
DTSTART:19700101T000000
END:STANDARD
END:VTIMEZONE
BEGIN:VEVENT
UID:2274639:Event:249136
DTSTAMP:20260424T010238Z
SUMMARY:Mining Americas Summit 2012
DESCRIPTION:This year’s agenda examines the latest capital managemen
 t strategies, cutting edge technologies, operational investments that 
 are currently driving the mining industry.\nProgram highlights include
 :\nAchieving excellence in design and development in surface mining op
 erations led by Richard Boulay, Chairman, Latin American Minerals Inc\
 nKey elements for mineral exploration success; Case Study: Neve Corvo,
  Portugal led by Neil O’Brien, SVP Exploration and Business Developm
 ent, Lundin Mining\nOutlook for Mining and Commodities markets in the 
 context of economic recovery and recession led by Marmadou Barry, Seni
 or Mining Specialist, The World Bank\nView the latest program Here >>>
  http://www.miningamericas.com/program\nMine operators can register th
 eir participation as a delegate at the discounted rate of $2995 USD at
   http://www.miningamericas.com/register\nYour delegate package inclu
 des:\n\nAccess to all conference sessions including streams and worksh
 ops\nPre-arranged meetings with delegates and solution providers\nAtte
 nd all networking activities\nHosted Luncheons and drinks receptions\n
 On-line summit catalog with detailed information on all attendees\nCon
 ference notes on-line for future reference and knowledge sharing\n\nFo
 r all delegate and sponsorship enquiries, please email Larry Allen, VP
  Marketing on larry.allen@wtgevents.com or call 1 416 214 1144\n\nFor 
 more information visit https://gomarcellusshale.com/events/mining-amer
 icas-summit-2012
DTSTART;TZID=Pacific/Midway:20120605T080000
DTEND;TZID=Pacific/Midway:20120606T160000
CATEGORIES:meeting, conference, networking
LOCATION:Denver Marriott City Center
WEBSITE:http://www.marriott.com/hotels/maps/travel/dendt-denver-marrio
 tt-city-center/
URL:http://www.marriott.com/hotels/maps/travel/dendt-denver-marriott-c
 ity-center/
CONTACT:1 416 214 1144
ORGANIZER;CN="Laurence Allen":https://gomarcellusshale.com/profile/Lau
 renceAllen
ATTACH;FMTTYPE="image/jpeg":http://storage.ning.com/topology/rest/1.0/
 file/get/97594346?profile=original
ATTENDEE;ROLE=REQ-PARTICIPANT;PARTSTAT=ACCEPTED;RSVP=TRUE;CN="Laurence
  Allen":https://gomarcellusshale.com/profile/LaurenceAllen
END:VEVENT
END:VCALENDAR
