BEGIN:VCALENDAR
PRODID:NingEventWidget-v1
VERSION:2.0
METHOD:PUBLISH
BEGIN:VTIMEZONE
TZID:Pacific/Midway
X-LIC-LOCATION:Pacific/Midway
BEGIN:STANDARD
TZOFFSETFROM:-1100
TZOFFSETTO:-1100
TZNAME:SST
DTSTART:19700101T000000
END:STANDARD
END:VTIMEZONE
BEGIN:VEVENT
UID:2274639:Event:342150
DTSTAMP:20260423T055611Z
SUMMARY:NARO 2nd Annual Members Conference
DESCRIPTION:National Association of Royalty Owners\n\nHartPetro Global
 , LLC (Appalachian Chapter President)\n\nThe Greenbrier\n\nFor more in
 formation visit https://gomarcellusshale.com/events/naro-2nd-annual-me
 mbers-conference
DTSTART;TZID=Pacific/Midway:20120924T130000
DTEND;TZID=Pacific/Midway:20120926T120000
CATEGORIES:convention
LOCATION:The Greenbrier
WEBSITE:http://www.greenbrier.com/get-here/driving-directions.aspx
URL:http://www.greenbrier.com/get-here/driving-directions.aspx
CONTACT:1-800-453-4858
ORGANIZER;CN="Robert N. Hart, P.E., CMA.":https://gomarcellusshale.com
 /profile/RobertNHartPECMA
ATTACH;FMTTYPE="image/jpeg":http://storage.ning.com/topology/rest/1.0/
 file/get/97599086?profile=original
ATTENDEE;ROLE=REQ-PARTICIPANT;PARTSTAT=ACCEPTED;RSVP=TRUE;CN="Robert N
 . Hart, P.E., CMA.":https://gomarcellusshale.com/profile/RobertNHartPE
 CMA
END:VEVENT
END:VCALENDAR
