BEGIN:VCALENDAR
PRODID:NingEventWidget-v1
VERSION:2.0
METHOD:PUBLISH
BEGIN:VTIMEZONE
TZID:Pacific/Midway
X-LIC-LOCATION:Pacific/Midway
BEGIN:STANDARD
TZOFFSETFROM:-1100
TZOFFSETTO:-1100
TZNAME:SST
DTSTART:19700101T000000
END:STANDARD
END:VTIMEZONE
BEGIN:VEVENT
UID:2274639:Event:498977
DTSTAMP:20260420T120220Z
SUMMARY:NARO National Convention, Columbus, Ohio
DESCRIPTION:http://http://www.naro-us.org/Resources/Documents/2013%20n
 at%20conv/ColumbusConvention.pdf\n\nFor more information visit https:/
 /gomarcellusshale.com/events/naro-national-convention-columbus-ohio
DTSTART;TZID=Pacific/Midway:20131031T000000
DTEND;TZID=Pacific/Midway:20131102T235900
CATEGORIES:royalty, owner, education
LOCATION:The Hyatt Regency Columbus, Ohio
WEBSITE:
URL:
CONTACT:
ORGANIZER;CN="Linn A. Willers":https://gomarcellusshale.com/profile/Li
 nnAWillers
ATTACH;FMTTYPE="image/jpeg":
ATTENDEE;ROLE=REQ-PARTICIPANT;PARTSTAT=ACCEPTED;RSVP=TRUE;CN="Linn A. 
 Willers":https://gomarcellusshale.com/profile/LinnAWillers
END:VEVENT
END:VCALENDAR
