BEGIN:VCALENDAR
PRODID:NingEventWidget-v1
VERSION:2.0
METHOD:PUBLISH
BEGIN:VTIMEZONE
TZID:Pacific/Midway
X-LIC-LOCATION:Pacific/Midway
BEGIN:STANDARD
TZOFFSETFROM:-1100
TZOFFSETTO:-1100
TZNAME:SST
DTSTART:19700101T000000
END:STANDARD
END:VTIMEZONE
BEGIN:VEVENT
UID:2274639:Event:68050
DTSTAMP:20260425T062610Z
SUMMARY:NARO PA Town Hall Meeting
DESCRIPTION:Click here for the full brochure- DuBois Town Hall Meeting
 .pdf\n\nFor more information visit https://gomarcellusshale.com/events
 /naro-pa-town-hall-meeting-1
DTSTART;TZID=Pacific/Midway:20110223T183000
DTEND;TZID=Pacific/Midway:20110223T210000
CATEGORIES:educational
LOCATION:Clarion Hotel DuBois, PA
WEBSITE:http://www.naro-us.org
URL:http://www.naro-us.org
CONTACT:
ORGANIZER;CN="Jackie Root-CMM":https://gomarcellusshale.com/profile/Ja
 ckieRoot
ATTACH;FMTTYPE="image/jpeg":
ATTENDEE;ROLE=REQ-PARTICIPANT;PARTSTAT=ACCEPTED;RSVP=TRUE;CN="Jackie R
 oot-CMM":https://gomarcellusshale.com/profile/JackieRoot
ATTENDEE;ROLE=REQ-PARTICIPANT;PARTSTAT=TENTATIVE;RSVP=TRUE;CN="Mike Fl
 or":https://gomarcellusshale.com/profile/MikeFlor
END:VEVENT
END:VCALENDAR
