BEGIN:VCALENDAR
PRODID:NingEventWidget-v1
VERSION:2.0
METHOD:PUBLISH
BEGIN:VTIMEZONE
TZID:Pacific/Midway
X-LIC-LOCATION:Pacific/Midway
BEGIN:STANDARD
TZOFFSETFROM:-1100
TZOFFSETTO:-1100
TZNAME:SST
DTSTART:19700101T000000
END:STANDARD
END:VTIMEZONE
BEGIN:VEVENT
UID:2274639:Event:67974
DTSTAMP:20260425T075126Z
SUMMARY:NARO PA Town Hall Meeting
DESCRIPTION:Click here to view the full brochure Butler Town Hall Meet
 ing\n\nFor more information visit https://gomarcellusshale.com/events/
 naro-pa-town-hall-meeting-2
DTSTART;TZID=Pacific/Midway:20110224T170000
DTEND;TZID=Pacific/Midway:20110224T210000
CATEGORIES:educational
LOCATION:The Atrium
WEBSITE:http://www. naro-us.org
URL:http://www. naro-us.org
CONTACT:
ORGANIZER;CN="Jackie Root-CMM":https://gomarcellusshale.com/profile/Ja
 ckieRoot
ATTACH;FMTTYPE="image/jpeg":
ATTENDEE;ROLE=REQ-PARTICIPANT;PARTSTAT=ACCEPTED;RSVP=TRUE;CN="Jackie R
 oot-CMM":https://gomarcellusshale.com/profile/JackieRoot
END:VEVENT
END:VCALENDAR
