BEGIN:VCALENDAR
PRODID:NingEventWidget-v1
VERSION:2.0
METHOD:PUBLISH
BEGIN:VTIMEZONE
TZID:Pacific/Midway
X-LIC-LOCATION:Pacific/Midway
BEGIN:STANDARD
TZOFFSETFROM:-1100
TZOFFSETTO:-1100
TZNAME:SST
DTSTART:19700101T000000
END:STANDARD
END:VTIMEZONE
BEGIN:VEVENT
UID:2274639:Event:68133
DTSTAMP:20260425T010859Z
SUMMARY:NARO PA Town Hall Meeting
DESCRIPTION:Click here to view the full brochure - Warren Townhall Mee
 ting\n \n\nFor more information visit https://gomarcellusshale.com/ev
 ents/naro-pa-town-hall-meeting
DTSTART;TZID=Pacific/Midway:20110209T174500
DTEND;TZID=Pacific/Midway:20110209T210000
CATEGORIES:educational
LOCATION:Conawango Club, Warren, PA
WEBSITE:http://www.naro-us.org
URL:http://www.naro-us.org
CONTACT:
ORGANIZER;CN="Jackie Root-CMM":https://gomarcellusshale.com/profile/Ja
 ckieRoot
ATTACH;FMTTYPE="image/jpeg":
ATTENDEE;ROLE=REQ-PARTICIPANT;PARTSTAT=ACCEPTED;RSVP=TRUE;CN="Jackie R
 oot-CMM":https://gomarcellusshale.com/profile/JackieRoot
END:VEVENT
END:VCALENDAR
