BEGIN:VCALENDAR
PRODID:NingEventWidget-v1
VERSION:2.0
METHOD:PUBLISH
BEGIN:VTIMEZONE
TZID:Pacific/Midway
X-LIC-LOCATION:Pacific/Midway
BEGIN:STANDARD
TZOFFSETFROM:-1100
TZOFFSETTO:-1100
TZNAME:SST
DTSTART:19700101T000000
END:STANDARD
END:VTIMEZONE
BEGIN:VEVENT
UID:2274639:Event:720140
DTSTAMP:20260424T235920Z
SUMMARY:NARO Pennsylvania 2016 Conference
DESCRIPTION:PA%202016%20Convention%20Registration%20Form.pdf\n\nFor mo
 re information visit https://gomarcellusshale.com/events/naro-pennsylv
 ania-2016-conference
DTSTART;TZID=Pacific/Midway:20160330T130000
DTEND;TZID=Pacific/Midway:20160401T160000
CATEGORIES:"mineral/royalty", owner, education
LOCATION:Ramada Conference Center
WEBSITE:http://www.ramadasc.com
URL:http://www.ramadasc.com
CONTACT:800-558-0557
ORGANIZER:The National Association of Royalty Owners - Pennsylvania Ch
 apter
ATTACH;FMTTYPE="image/jpeg":
ATTENDEE;ROLE=REQ-PARTICIPANT;PARTSTAT=ACCEPTED;RSVP=TRUE;CN="Cynthia 
 Simonds":https://gomarcellusshale.com/profile/CynthiaSimonds
END:VEVENT
END:VCALENDAR
