BEGIN:VCALENDAR
PRODID:NingEventWidget-v1
VERSION:2.0
METHOD:PUBLISH
BEGIN:VTIMEZONE
TZID:Pacific/Midway
X-LIC-LOCATION:Pacific/Midway
BEGIN:STANDARD
TZOFFSETFROM:-1100
TZOFFSETTO:-1100
TZNAME:SST
DTSTART:19700101T000000
END:STANDARD
END:VTIMEZONE
BEGIN:VEVENT
UID:2274639:Event:277389
DTSTAMP:20260424T023003Z
SUMMARY:National Water Program 2012 Strategy: Response to Climate Chan
 ge
DESCRIPTION:This 90-minute webinar workshop will present the latest Fe
 deral policy frameworks along with methods to assess wetland impacts a
 nd climate change. This is a NEW 404 permit requirement that you reall
 y need to pay attention too. Several real case studies will be present
 ed to demonstrate how climate change assessment is being incorporated 
 into project planning. These climate change case study projects occur 
 in the west coast and serve as great examples of what the March 2012 U
 S EPA stated objectives plan to accomplish.  Join us for our an intera
 ctive and live webinar. When: May 23, 2012 Time: 1 PM to 2:30 PM EST  
 More Information:  http://swampschool.org/new/wetlands-and-climate-cha
 nge/ or call 1-877-479-2673\n\nFor more information visit https://goma
 rcellusshale.com/events/national-water-program-2012-strategy-response-
 to-climate-change
DTSTART;TZID=Pacific/Midway:20120523T130000
DTEND;TZID=Pacific/Midway:20120523T143000
CATEGORIES:live, webinar
LOCATION:Live Webinar
WEBSITE:http://swampschool.org/new/wetlands-and-climate-change/
URL:http://swampschool.org/new/wetlands-and-climate-change/
CONTACT:1-877-479-2673
ORGANIZER;CN="Marc Seelinger":https://gomarcellusshale.com/profile/Mar
 cSeelinger
ATTACH;FMTTYPE="image/jpeg":http://storage.ning.com/topology/rest/1.0/
 file/get/97596229?profile=original
ATTENDEE;ROLE=REQ-PARTICIPANT;PARTSTAT=ACCEPTED;RSVP=TRUE;CN="Marc See
 linger":https://gomarcellusshale.com/profile/MarcSeelinger
END:VEVENT
END:VCALENDAR
