BEGIN:VCALENDAR
PRODID:NingEventWidget-v1
VERSION:2.0
METHOD:PUBLISH
BEGIN:VTIMEZONE
TZID:Pacific/Midway
X-LIC-LOCATION:Pacific/Midway
BEGIN:STANDARD
TZOFFSETFROM:-1100
TZOFFSETTO:-1100
TZNAME:SST
DTSTART:19700101T000000
END:STANDARD
END:VTIMEZONE
BEGIN:VEVENT
UID:2274639:Event:71294
DTSTAMP:20260425T103151Z
SUMMARY:Natural Gas Drilling Symposium
DESCRIPTION:This event is to educate the public about Narural Gas Dril
 ling. The speakers consist of: Shireen Parsons-Activist, guest speaker
  for the Community Environmental Legal Defense Fund and Dr. Tom Jiunta
 -President of the Gas Drilling Awareness Coaliiton and Elizabeth Griec
 o-Activist, Published Author and Founder and President of the Pocono E
 nvironmental Coaltion and Wildlife Society.\n\nFor more information vi
 sit https://gomarcellusshale.com/events/natural-gas-drilling-symposium
DTSTART;TZID=Pacific/Midway:20110305T133000
DTEND;TZID=Pacific/Midway:20110305T160000
CATEGORIES:get, educated, about, the, "pro's", and, "con's", of, natur
 al, gas, drilling, in, our, area
LOCATION:Monroe County Public Library in Stroudsburg, Pa(next to Midas
 )
WEBSITE:
URL:
CONTACT:610-381-8989
ORGANIZER:kelly zimmerman and Elizabeth Grieco
ATTACH;FMTTYPE="image/jpeg":
ATTENDEE;ROLE=REQ-PARTICIPANT;PARTSTAT=ACCEPTED;RSVP=TRUE;CN="kelly zi
 mmerman":https://gomarcellusshale.com/profile/kellyzimmerman
END:VEVENT
END:VCALENDAR
