BEGIN:VCALENDAR
PRODID:NingEventWidget-v1
VERSION:2.0
METHOD:PUBLISH
BEGIN:VTIMEZONE
TZID:Pacific/Midway
X-LIC-LOCATION:Pacific/Midway
BEGIN:STANDARD
TZOFFSETFROM:-1100
TZOFFSETTO:-1100
TZNAME:SST
DTSTART:19700101T000000
END:STANDARD
END:VTIMEZONE
BEGIN:VEVENT
UID:2274639:Event:40005
DTSTAMP:20260425T091704Z
SUMMARY:Natural Gas Plant Operations- Certificate Program
DESCRIPTION:We are faciliating a new online certification program in n
 atural gas plant operations. Upon successful completion of this progra
 m, students will be able to:• Describe basic math, physics and chemi
 stry knowledge necessary for a gas plant operator.• Describe basic s
 afety aspects related to gas plant production.• Describe basic eleme
 nts of electricity for energy production workers.• Describe how to r
 ead technical process drawings.• Describe basic operational elements
  of lubrication and centrifugal pumps.• Describe nature of natural g
 as, how it is found in nature and how gas wells are developed.• Desc
 ribe how natural gas compression systems work.• Describe how natural
  gas refrigeration systems work.• Describe various methods used to p
 urify natural gas.More information about this and other training cours
 es can be found online.\n\nFor more information visit https://gomarcel
 lusshale.com/events/natural-gas-plant-operations
DTSTART;TZID=Pacific/Midway:20110228T000000
DTEND;TZID=Pacific/Midway:20110314T235900
CATEGORIES:online, training, course
LOCATION:web-based training
WEBSITE:http://www.bfenvironmental.com/energy.php
URL:http://www.bfenvironmental.com/energy.php
CONTACT:
ORGANIZER;CN="Brian Oram, PG":https://gomarcellusshale.com/profile/Bri
 anOramPG
ATTACH;FMTTYPE="image/jpeg":
ATTENDEE;ROLE=REQ-PARTICIPANT;PARTSTAT=ACCEPTED;RSVP=TRUE;CN="Brian Or
 am, PG":https://gomarcellusshale.com/profile/BrianOramPG
ATTENDEE;ROLE=REQ-PARTICIPANT;PARTSTAT=ACCEPTED;RSVP=TRUE;CN="Jeff Tur
 mo":https://gomarcellusshale.com/profile/JeffTurmo
ATTENDEE;ROLE=REQ-PARTICIPANT;PARTSTAT=ACCEPTED;RSVP=TRUE;CN="James Ha
 rber":https://gomarcellusshale.com/profile/JamesPHarber
ATTENDEE;ROLE=REQ-PARTICIPANT;PARTSTAT=TENTATIVE;RSVP=TRUE;CN="Bruce W
 ayne Allen":https://gomarcellusshale.com/profile/BruceWayneAllen
ATTENDEE;ROLE=REQ-PARTICIPANT;PARTSTAT=TENTATIVE;RSVP=TRUE;CN="S. Paci
 -Neidig":https://gomarcellusshale.com/profile/SPacineidig
END:VEVENT
END:VCALENDAR
