BEGIN:VCALENDAR
PRODID:NingEventWidget-v1
VERSION:2.0
METHOD:PUBLISH
BEGIN:VTIMEZONE
TZID:Pacific/Midway
X-LIC-LOCATION:Pacific/Midway
BEGIN:STANDARD
TZOFFSETFROM:-1100
TZOFFSETTO:-1100
TZNAME:SST
DTSTART:19700101T000000
END:STANDARD
END:VTIMEZONE
BEGIN:VEVENT
UID:2274639:Event:282010
DTSTAMP:20260424T041248Z
SUMMARY:Next Western Tyler Mineral and Landowners Group Meeting - May 
 11, 2012 at 6:00 PM
DESCRIPTION:The next Western Tyler Mineral and Landowner Group meeting
  is at 6:00 PM, on Friday, May 11, 2012 at the Little Methodist Church
  in Friendly WV.  Meetings are open to all mineral and landowners.\nO
 ur guest speaker will be one of West Virginia University’s top geolo
 gy researchers, Dr. Tim Carr, the Marshall S. Miller Professor of Ener
 gy in the Department of Geography and Geology in the Eberly College of
  Arts and Sciences.\nInformation + Education + Patience + Cooperation 
 = Better Results\nFor directions or more information call: 304-771-106
 3.\nCheck out our group's new website: www.tylerch4us.com\n\nFor more 
 information visit https://gomarcellusshale.com/events/next-western-tyl
 er-mineral-and-landowners-group-meeting-may-11
DTSTART;TZID=Pacific/Midway:20120511T180000
DTEND;TZID=Pacific/Midway:20120511T193000
CATEGORIES:mineral, "&", landowner, group, meeting
LOCATION:Little Methodist Church
WEBSITE:http://www.tylerch4us.com
URL:http://www.tylerch4us.com
CONTACT:304-771-1063
ORGANIZER;CN=TylerCH4Us:https://gomarcellusshale.com/profile/TylerCH4U
 s
ATTACH;FMTTYPE="image/jpeg":http://storage.ning.com/topology/rest/1.0/
 file/get/97596871?profile=original
ATTENDEE;ROLE=REQ-PARTICIPANT;PARTSTAT=ACCEPTED;RSVP=TRUE;CN=TylerCH4U
 s:https://gomarcellusshale.com/profile/TylerCH4Us
END:VEVENT
END:VCALENDAR
