BEGIN:VCALENDAR
PRODID:NingEventWidget-v1
VERSION:2.0
METHOD:PUBLISH
BEGIN:VTIMEZONE
TZID:Pacific/Midway
X-LIC-LOCATION:Pacific/Midway
BEGIN:STANDARD
TZOFFSETFROM:-1100
TZOFFSETTO:-1100
TZNAME:SST
DTSTART:19700101T000000
END:STANDARD
END:VTIMEZONE
BEGIN:VEVENT
UID:2274639:Event:619738
DTSTAMP:20260424T103926Z
SUMMARY:Northwest Tioga County Landowners Meeting
DESCRIPTION:Oil and Gas Meeting for Northwest Tioga County Landowners-
  Lester Greevy Esq & Jackie Root CMM, Current Development Activity; La
 test on Leasing- Royalty, Bonus, Terms; Burket, Marcellus, Utica Shale
 s. Thur, Sept. 18, 6:30 PM, Clymer Township Building, Sabinsville For 
 information 570-537-3829 or katie@gaswellguru.com.\n\nFor more informa
 tion visit https://gomarcellusshale.com/events/northwest-tioga-county-
 landowners-meeting
DTSTART;TZID=Pacific/Midway:20140918T183000
DTEND;TZID=Pacific/Midway:20140918T210000
CATEGORIES:landowners, meeting
LOCATION:Clymer Township Building, 1105 Locust St, Sabinsville, PA 169
 43
WEBSITE:
URL:
CONTACT:
ORGANIZER;CN="Jackie Root-CMM":https://gomarcellusshale.com/profile/Ja
 ckieRoot
ATTACH;FMTTYPE="image/jpeg":
ATTENDEE;ROLE=REQ-PARTICIPANT;PARTSTAT=ACCEPTED;RSVP=TRUE;CN="Jackie R
 oot-CMM":https://gomarcellusshale.com/profile/JackieRoot
END:VEVENT
END:VCALENDAR
