BEGIN:VCALENDAR
PRODID:NingEventWidget-v1
VERSION:2.0
METHOD:PUBLISH
BEGIN:VTIMEZONE
TZID:Pacific/Midway
X-LIC-LOCATION:Pacific/Midway
BEGIN:STANDARD
TZOFFSETFROM:-1100
TZOFFSETTO:-1100
TZNAME:SST
DTSTART:19700101T000000
END:STANDARD
END:VTIMEZONE
BEGIN:VEVENT
UID:2274639:Event:290158
DTSTAMP:20260423T233809Z
SUMMARY:NW PA Oil and Gas Hub Business2business forum - \"What's in it
  for Me?\"
DESCRIPTION:Take advantage of this worthwhile event\nto learn about th
 e business opportunities available due to the growth of the natural ga
 s industry and find out\n \n“What’s in it for You?” \nJune 7th,
  2012 9 AM – 2 PM (Registration 8:30 AM) Venango Technology Center; 
 1 Vo-Tech Drive; Oil City, PA 16301 Cost: $25 – includes Lunch & Bre
 aks  Take advantage of this worthwhile event to learn about the busine
 ss opportunities  available due to the growth of the natural gas indus
 try.\n PRESENTATIONS  Improving and Expanding your Business with the 
 Natural Gas Market Speaker- John Canterberry, Project Executive – En
 ergy Division, Walsh Group - Knowing the Culture and the structure of 
 the Oil and Gas Industry.  Natural gas utilization – isn’t it time
  for a change? Speaker Robert Garland, Senior Technical Advisor Univer
 sal Well Services – How our sources of energy and how we do things w
 ill change with the abundance of Natural Gas in our region.  How can y
 ou/your company benefit from the influx of Natural Gas in Our Region? 
 – Decrease your Overhead!  Speaker: Geoff Bristow, Regional Manager 
 of PA Department of Environmental Protection’s Office of Pollution P
 revention and Energy Assistance in Meadville.  Mr Bristow has over 15
  years of experience working in the state’s energy office where his 
 main role has been the development and implementation of technical ass
 istance, energy education, and grant programs focusing on efficiency, 
 conservation and alternative energy approaches.\nBusiness Opportunitie
 s for YOU as a Result of the Proposed Cracker Plant in Beaver County 
   Speaker - Jon Laughner, Penn State Extension, Beaver County:\nLando
 wner Groups, Legaleze, and Wealth Management: Speaker - Bud Shuffstall
 , Senior Oil, Gas, and Mineral Officer of Northwest Savings Bank  Regi
 stration Deadline: May 31, 2012  PDF of Flyer/Registration\n\n\nFor mo
 re information visit https://gomarcellusshale.com/events/nw-pa-oil-and
 -gas-hub-business2business-forum-what-s-in-it-for-me
DTSTART;TZID=Pacific/Midway:20120607T083000
DTEND;TZID=Pacific/Midway:20120607T143000
CATEGORIES:business, 2, forum
LOCATION:Venango Technology Center; 1 Vo-Tech Drive; Oil City, PA 1630
 1
WEBSITE:http://www.nwpaoilandgashub.com
URL:http://www.nwpaoilandgashub.com
CONTACT:
ORGANIZER;CN="Bonnie Streyle":https://gomarcellusshale.com/profile/Bon
 nieStreyle
ATTACH;FMTTYPE="image/jpeg":
ATTENDEE;ROLE=REQ-PARTICIPANT;PARTSTAT=ACCEPTED;RSVP=TRUE;CN="Bonnie S
 treyle":https://gomarcellusshale.com/profile/BonnieStreyle
END:VEVENT
END:VCALENDAR
