BEGIN:VCALENDAR
PRODID:NingEventWidget-v1
VERSION:2.0
METHOD:PUBLISH
BEGIN:VTIMEZONE
TZID:Pacific/Midway
X-LIC-LOCATION:Pacific/Midway
BEGIN:STANDARD
TZOFFSETFROM:-1100
TZOFFSETTO:-1100
TZNAME:SST
DTSTART:19700101T000000
END:STANDARD
END:VTIMEZONE
BEGIN:VEVENT
UID:2274639:Event:587246
DTSTAMP:20260424T020410Z
SUMMARY:Oil and Gas Breakfast - New York Energy Week
DESCRIPTION:Request An Invite\nNew York has a powerful history as a cr
 ossroads for the oil and gas business, and the sector will gather to k
 ick off New York Energy Week 2014 with a panel examining the extraordi
 nary shift in fossil fuel economics in recent years, its impact on bus
 iness and political relationships, and the central role of the Northea
 stern US in an emerging new oil and gas reality. With surging US produ
 ction prompting expectations for shifting use of regional refineries, 
 in pipelines that serve global markets and through transformation of i
 nfrastructure, the possibilities for the New York energy community in 
 working with regulators, investors and other stakeholders through fina
 ncial innovation, creative project management and technology advanceme
 nt is extraordinary.\n\nJoseph Bohm,Â President, Dual Fuel Corporation
 Chris Faulkner,Â President & CEO, Breitling EnergyCarolyn Kissane,Â Ac
 ademic Director and Clinical Associate Professor, Energy and Environme
 nt Concentration Director, New York UniversityBranko Terzic,Â Former C
 EO & Commissioner, Federal Energy Regulatory Commission\nModerated byÂ
  Peter Gardett,Â Founding Editor, Breaking Energy\nWelcoming remarks b
 yÂ Gary Morsches,Â Managing Director â€“ Global Energy, CME Group\n\nF
 or more information visit https://gomarcellusshale.com/events/oil-and-
 gas-breakfast-new-york-energy-week
DTSTART;TZID=Pacific/Midway:20140616T080000
DTEND;TZID=Pacific/Midway:20140616T100000
CATEGORIES:panel
LOCATION:CME Group, NYMEX World Headquarters, One North End Avenue, Ne
 w York, NY.
WEBSITE:http://nyenergyweek.com/event-schedule/2014-schedule/
URL:http://nyenergyweek.com/event-schedule/2014-schedule/
CONTACT:
ORGANIZER:Energy Solutions Forum
ATTACH;FMTTYPE="image/jpeg":
ATTENDEE;ROLE=REQ-PARTICIPANT;PARTSTAT=ACCEPTED;RSVP=TRUE;CN="Keith Ma
 uck (Site Publisher)":https://gomarcellusshale.com/profile/marcellus_s
 hale
END:VEVENT
END:VCALENDAR
