BEGIN:VCALENDAR
PRODID:NingEventWidget-v1
VERSION:2.0
METHOD:PUBLISH
BEGIN:VTIMEZONE
TZID:Pacific/Midway
X-LIC-LOCATION:Pacific/Midway
BEGIN:STANDARD
TZOFFSETFROM:-1100
TZOFFSETTO:-1100
TZNAME:SST
DTSTART:19700101T000000
END:STANDARD
END:VTIMEZONE
BEGIN:VEVENT
UID:2274639:Event:241329
DTSTAMP:20260425T030520Z
SUMMARY:Oil and Gas Lecture FEb 15th 630 pm washington state comm coll
 ege
DESCRIPTION:lecture, q & a\n\nFor more information visit https://gomar
 cellusshale.com/events/oil-and-gas-lecture-feb-15th-630-pm-washington-
 state-comm-college
DTSTART;TZID=Pacific/Midway:20120214T180000
DTEND;TZID=Pacific/Midway:20120214T190000
CATEGORIES:"lecture/question", and, answer, session
LOCATION:washington state auditorium
WEBSITE:
URL:
CONTACT:
ORGANIZER;CN=svb001:https://gomarcellusshale.com/profile/svb001
ATTACH;FMTTYPE="image/jpeg":
ATTENDEE;ROLE=REQ-PARTICIPANT;PARTSTAT=ACCEPTED;RSVP=TRUE;CN=svb001:ht
 tps://gomarcellusshale.com/profile/svb001
END:VEVENT
END:VCALENDAR
