BEGIN:VCALENDAR
PRODID:NingEventWidget-v1
VERSION:2.0
METHOD:PUBLISH
BEGIN:VTIMEZONE
TZID:Pacific/Midway
X-LIC-LOCATION:Pacific/Midway
BEGIN:STANDARD
TZOFFSETFROM:-1100
TZOFFSETTO:-1100
TZNAME:SST
DTSTART:19700101T000000
END:STANDARD
END:VTIMEZONE
BEGIN:VEVENT
UID:2274639:Event:292309
DTSTAMP:20260423T072145Z
SUMMARY:Oil & Gas Critical Infrastructure and Asset Security Forum 201
 2
DESCRIPTION:Covering security issues related to both offshore and onsh
 ore oil and gas arising out of civil unrest, terrorist activities, and
  a competitive global market, the focus of the event will be on the ke
 y elements of using a variety of intrusion detection technologies to d
 etect vibrations and sound, infrared and microwave barriers, CCTV for 
 motion detection and access control. Also, the implementation of secur
 ity operations centres for data protection, events correlation, issuin
 g warnings and what is required to ensure robust perimeter security an
 d surveillance, maritime and cyber security. find out more at www.ogas
 setsecurity.com\n\nFor more information visit https://gomarcellusshale
 .com/events/oil-gas-critical-infrastructure-and-asset-security-forum-2
 012
DTSTART;TZID=Pacific/Midway:20120919T000000
DTEND;TZID=Pacific/Midway:20120921T235900
CATEGORIES:conference, forum, oil, gas, security
LOCATION:Austria Trend Hotel Park Royal Palace,
WEBSITE:http://www.austria-trend.at/Hotel-Park-Royal-Palace-Vienna
URL:http://www.austria-trend.at/Hotel-Park-Royal-Palace-Vienna
CONTACT:+44 (0) 203 615 0390
ORGANIZER;CN="Laurence Allen":https://gomarcellusshale.com/profile/Lau
 renceAllen207
ATTACH;FMTTYPE="image/jpeg":http://storage.ning.com/topology/rest/1.0/
 file/get/97597057?profile=original
ATTENDEE;ROLE=REQ-PARTICIPANT;PARTSTAT=ACCEPTED;RSVP=TRUE;CN="Laurence
  Allen":https://gomarcellusshale.com/profile/LaurenceAllen207
END:VEVENT
END:VCALENDAR
