BEGIN:VCALENDAR
PRODID:NingEventWidget-v1
VERSION:2.0
METHOD:PUBLISH
BEGIN:VTIMEZONE
TZID:Pacific/Midway
X-LIC-LOCATION:Pacific/Midway
BEGIN:STANDARD
TZOFFSETFROM:-1100
TZOFFSETTO:-1100
TZNAME:SST
DTSTART:19700101T000000
END:STANDARD
END:VTIMEZONE
BEGIN:VEVENT
UID:2274639:Event:498876
DTSTAMP:20260420T053024Z
SUMMARY:Online Wetland Delineation Training
DESCRIPTION:The Swamp School’s new online wetland delineation traini
 ng is entirely online and local. There is no out of town travel requir
 ed. Even the field work is nearby.\n\nFirst you complete our Wetland C
 ORE training online. This is the basic wetland training and includes t
 he 1987 Corps of Engineers Wetland Manual material that is still in us
 e. We cover the conceptual framework of the wetland indicators as well
  as the regulatory context, court decisions and related laws in this m
 odule.\nNext, you choose which Regional Supplement you need to be trai
 ned on. We offer all 10 and you can add more as you need them. Each Re
 gional Supplement module presents all of the relevant wetland indicato
 rs as they pertain to that region.\nFinally, you complete the field wo
 rk at a wetland in your neighborhood. There is no longer a need to tra
 vel to far off lands to finish your training. We have developed step b
 y step guide and HD videos that will show you exactly, what you need t
 o do as if you were standing in the field class. You will turn in your
  wetland data for review along with photographs and one of our team of
  experts will work with you to help you complete your training.\nWe of
 fer 24/7 support and bi-weekly call in sessions to answer your questio
 ns. You can work individually or as part of a team. Our training is a 
 blend of live, interactive, and online modules. It is designed to get 
 you trained at a pace and schedule that is convenient for you. Our tra
 ining has also been accepted for a number of professional continuing e
 ducation and certification programs.\n\nFor more information visit htt
 ps://gomarcellusshale.com/events/online-wetland-delineation-training
DTSTART;TZID=Pacific/Midway:20131001T000000
DTEND;TZID=Pacific/Midway:20131220T235900
CATEGORIES:online, etraining
LOCATION:Online
WEBSITE:http://swampschool.org/new/core-online-wetland-training/
URL:http://swampschool.org/new/core-online-wetland-training/
CONTACT:1-877-479-2673
ORGANIZER;CN="Marc Seelinger":https://gomarcellusshale.com/profile/Mar
 cSeelinger
ATTACH;FMTTYPE="image/jpeg":http://storage.ning.com/topology/rest/1.0/
 file/get/97605658?profile=original
ATTENDEE;ROLE=REQ-PARTICIPANT;PARTSTAT=ACCEPTED;RSVP=TRUE;CN="Marc See
 linger":https://gomarcellusshale.com/profile/MarcSeelinger
END:VEVENT
END:VCALENDAR
