BEGIN:VCALENDAR
PRODID:NingEventWidget-v1
VERSION:2.0
METHOD:PUBLISH
BEGIN:VTIMEZONE
TZID:Pacific/Midway
X-LIC-LOCATION:Pacific/Midway
BEGIN:STANDARD
TZOFFSETFROM:-1100
TZOFFSETTO:-1100
TZNAME:SST
DTSTART:19700101T000000
END:STANDARD
END:VTIMEZONE
BEGIN:VEVENT
UID:2274639:Event:301918
DTSTAMP:20260423T181054Z
SUMMARY:Penn State Extension - Financial Considerations and Shale Gas 
 Development
DESCRIPTION:GreeneFinancial 6-27-12.pdf\n \nAfter brief introductions
  by the presenters, we will present several typical cases that many pe
 ople will experience. An example is asking the panel of experts to dis
 cuss their recommendations for a middle-aged married couple, several c
 hildren, small farm with a mortgage. How would they recommend handling
  a lease/bonus payment and future royalty payments to prepare and plan
  for the future and protect their income?\n \nWe will run through 2-4
  different cases and open each up to questions from the audience. A ca
 sual, informal discussion between the audience and presenters.\n\nFor 
 more information visit https://gomarcellusshale.com/events/penn-state-
 extension-financial-considerations-and-shale-gas-1
DTSTART;TZID=Pacific/Midway:20120627T183000
DTEND;TZID=Pacific/Midway:20120627T210000
CATEGORIES:"educational/informational"
LOCATION:Cumberland Township Office, Greene County
WEBSITE:http://www.naturalgas.psu.edu
URL:http://www.naturalgas.psu.edu
CONTACT:724-774-3003
ORGANIZER;CN="Jon Laughner":https://gomarcellusshale.com/profile/JonLa
 ughner
ATTACH;FMTTYPE="image/jpeg":
ATTENDEE;ROLE=REQ-PARTICIPANT;PARTSTAT=ACCEPTED;RSVP=TRUE;CN="Jon Laug
 hner":https://gomarcellusshale.com/profile/JonLaughner
END:VEVENT
END:VCALENDAR
