BEGIN:VCALENDAR
PRODID:NingEventWidget-v1
VERSION:2.0
METHOD:PUBLISH
BEGIN:VTIMEZONE
TZID:Pacific/Midway
X-LIC-LOCATION:Pacific/Midway
BEGIN:STANDARD
TZOFFSETFROM:-1100
TZOFFSETTO:-1100
TZNAME:SST
DTSTART:19700101T000000
END:STANDARD
END:VTIMEZONE
BEGIN:VEVENT
UID:2274639:Event:301683
DTSTAMP:20260423T193456Z
SUMMARY:Penn State Extension - Financial Considerations and Shale Gas 
 Development
DESCRIPTION:MS%20BeaverFinancial%206-20-12.pdf\n \nAfter brief introd
 uctions by the presenters, we will present several typical cases that 
 many people will experience. An example is asking the panel of experts
  to discuss their recommendations for a middle-aged married couple, se
 veral children, small farm with a mortgage. How would they recommend h
 andling a lease/bonus payment and future royalty payments to prepare a
 nd plan for the future and protect their income?\n \nWe will run thro
 ugh 2-4 different cases and open each up to questions from the audienc
 e. A casual, informal discussion between the audience and presenters.\
 n\nFor more information visit https://gomarcellusshale.com/events/penn
 -state-extension-financial-considerations-and-shale-gas
DTSTART;TZID=Pacific/Midway:20120620T183000
DTEND;TZID=Pacific/Midway:20120620T210000
CATEGORIES:educational
LOCATION:Penn State Beaver Campus - Student Union, The Lodge (room nam
 e)
WEBSITE:http://www.naturalgas.psu.edu
URL:http://www.naturalgas.psu.edu
CONTACT:724-774-3003
ORGANIZER;CN="Jon Laughner":https://gomarcellusshale.com/profile/JonLa
 ughner
ATTACH;FMTTYPE="image/jpeg":
ATTENDEE;ROLE=REQ-PARTICIPANT;PARTSTAT=ACCEPTED;RSVP=TRUE;CN="Jon Laug
 hner":https://gomarcellusshale.com/profile/JonLaughner
END:VEVENT
END:VCALENDAR
