BEGIN:VCALENDAR
PRODID:NingEventWidget-v1
VERSION:2.0
METHOD:PUBLISH
BEGIN:VTIMEZONE
TZID:Pacific/Midway
X-LIC-LOCATION:Pacific/Midway
BEGIN:STANDARD
TZOFFSETFROM:-1100
TZOFFSETTO:-1100
TZNAME:SST
DTSTART:19700101T000000
END:STANDARD
END:VTIMEZONE
BEGIN:VEVENT
UID:2274639:Event:55178
DTSTAMP:20260425T024335Z
SUMMARY:Pennsylvania Geology and Groundwater Presentation
DESCRIPTION:This wil be a presentation on the geology and groundwater 
 of Northeastern Pennsylvania. We will discuss baseline testing, issues
  related to Marcellus Shale Development and other land development, an
 d much more. Presentation by Mr. Brian Oram, Professional Geologist wi
 th over 25 years experience in Northeastern PA.\n\nNote- Mr. Brian Ora
 m Conducts presentations by request.\n\nFor more information visit htt
 ps://gomarcellusshale.com/events/pennsylvania-geology-and
DTSTART;TZID=Pacific/Midway:20101102T183000
DTEND;TZID=Pacific/Midway:20101102T193000
CATEGORIES:education
LOCATION:Lackawanna College Environmental Institute - Covington Townsh
 ip
WEBSITE:http://www.lackawanna.edu/EnvironmentalInstitute
URL:http://www.lackawanna.edu/EnvironmentalInstitute
CONTACT:5708421506
ORGANIZER:Lackawanna College
ATTACH;FMTTYPE="image/jpeg":
ATTENDEE;ROLE=REQ-PARTICIPANT;PARTSTAT=ACCEPTED;RSVP=TRUE;CN="Brian Or
 am, PG":https://gomarcellusshale.com/profile/BrianOramPG
END:VEVENT
END:VCALENDAR
