BEGIN:VCALENDAR
PRODID:NingEventWidget-v1
VERSION:2.0
METHOD:PUBLISH
BEGIN:VTIMEZONE
TZID:Pacific/Midway
X-LIC-LOCATION:Pacific/Midway
BEGIN:STANDARD
TZOFFSETFROM:-1100
TZOFFSETTO:-1100
TZNAME:SST
DTSTART:19700101T000000
END:STANDARD
END:VTIMEZONE
BEGIN:VEVENT
UID:2274639:Event:24233
DTSTAMP:20260425T043801Z
SUMMARY:Pennsylvania Marcellus Shale Policy Conference
DESCRIPTION:How should Pennsylvania construct an effective, comprehens
 ive, and consistent regulatory framework for the development of the Ma
 rcellus Shale formation; one that allows industry to prosper while als
 o protecting our environment and communities?\n\nThe objective of the 
 Marcellus Shale Policy Conference is to convene well-informed members 
 of oil & gas industry, environmental organizations, state and local go
 vernment, science community, and other interested stakeholders, to eng
 age in active discussion on the currently unresolved challenges imbedd
 ed in the development of the Marcellus Shale formation. The Conference
  will not be just a series of presentations - it will be an open inter
 active dialog.\n\nThe Conference will examine many issues in depth, in
 cluding:\n\nWhat are the most important unresolved regulatory issues c
 oncerning development; including frack water management, siting criter
 ia, post-development operations, and long term responsibility?\n\nWhat
  are the lessons learned from past resource development that Pennsylva
 nia should observe with existing and future development?\n\nWhat have 
 other states done that may prove useful for Pennsylvania? Are there ap
 plicable regulatory or development best management practices which can
  be adopted in Pennsylvania?\n\nIn the end, what should a comprehensiv
 e regulatory program look like in Pennsylvania? What are the pros and 
 cons of that program?\n\nFor more information visit https://gomarcellu
 sshale.com/events/pennsylvania-marcellus-shale
DTSTART;TZID=Pacific/Midway:20100503T000000
DTEND;TZID=Pacific/Midway:20100504T235900
CATEGORIES:two, day, conference
LOCATION:Duquesne Power Center, Pittsburgh
WEBSITE:http://www.pecpa.org/marcellus
URL:http://www.pecpa.org/marcellus
CONTACT:
ORGANIZER:marcellusshalepolicyconference@pecpa.org
ATTACH;FMTTYPE="image/jpeg":
ATTENDEE;ROLE=REQ-PARTICIPANT;PARTSTAT=ACCEPTED;RSVP=TRUE;CN=Private:h
 ttps://gomarcellusshale.com/profile/Private279
END:VEVENT
END:VCALENDAR
