BEGIN:VCALENDAR
PRODID:NingEventWidget-v1
VERSION:2.0
METHOD:PUBLISH
BEGIN:VTIMEZONE
TZID:Pacific/Midway
X-LIC-LOCATION:Pacific/Midway
BEGIN:STANDARD
TZOFFSETFROM:-1100
TZOFFSETTO:-1100
TZNAME:SST
DTSTART:19700101T000000
END:STANDARD
END:VTIMEZONE
BEGIN:VEVENT
UID:2274639:Event:66317
DTSTAMP:20260425T102718Z
SUMMARY:Pennsylvania Water Environment Association - Marcellus Shale -
 Water Management Issues
DESCRIPTION:1-3-11%2C-registration-brochure%2C-marcellus-shale-conf.pd
 f\n\nFor more information visit https://gomarcellusshale.com/events/pe
 nnsylvania-water-environment
DTSTART;TZID=Pacific/Midway:20110308T163000
DTEND;TZID=Pacific/Midway:20110309T150000
CATEGORIES:conference
LOCATION:Mansfield University
WEBSITE:
URL:
CONTACT:570.549.2204
ORGANIZER:Pennsylvania Water Environment Association
ATTACH;FMTTYPE="image/jpeg":
ATTENDEE;ROLE=REQ-PARTICIPANT;PARTSTAT=ACCEPTED;RSVP=TRUE;CN="James P.
  Hopkins, PE":https://gomarcellusshale.com/profile/JamesPHopkinsPE
END:VEVENT
END:VCALENDAR
