BEGIN:VCALENDAR
PRODID:NingEventWidget-v1
VERSION:2.0
METHOD:PUBLISH
BEGIN:VTIMEZONE
TZID:Pacific/Midway
X-LIC-LOCATION:Pacific/Midway
BEGIN:STANDARD
TZOFFSETFROM:-1100
TZOFFSETTO:-1100
TZNAME:SST
DTSTART:19700101T000000
END:STANDARD
END:VTIMEZONE
BEGIN:VEVENT
UID:2274639:Event:253450
DTSTAMP:20260423T205106Z
SUMMARY:Pennsylvania Wetland Plants
DESCRIPTION:Northeast Wetland Plant Identification\nJune 13-14, 2012\n
  Join us for a terrific two-day field workshop in northeastern Pennsyl
 vania and learn your wetland plants. The class is entirely a field wor
 kshop. Each day we will set out on the trail to identify different wet
 land habitats and their unique vegetative communities. The class will 
 be lead by a team of expert botanists who will show you the tips and t
 ricks to quickly identify the plants that are in the area. We will als
 o be recording the vegetation found on the US Army Corps of Engineers 
 Regional Supplement Data forms and will review the \"plant math\" to d
 etermine if the habitat is a wetland plant community.   For more infor
 mation please visit our website at: http://bit.ly/PAPlants\n\nFor more
  information visit https://gomarcellusshale.com/events/pennsylvania-we
 tland-plants
DTSTART;TZID=Pacific/Midway:20120613T000000
DTEND;TZID=Pacific/Midway:20120614T235900
CATEGORIES:training
LOCATION:Pocono Environmental Education Center
WEBSITE:http://swampschool.org
URL:http://swampschool.org
CONTACT:
ORGANIZER;CN="Marc Seelinger":https://gomarcellusshale.com/profile/Mar
 cSeelinger
ATTACH;FMTTYPE="image/jpeg":http://storage.ning.com/topology/rest/1.0/
 file/get/97594770?profile=original
ATTENDEE;ROLE=REQ-PARTICIPANT;PARTSTAT=ACCEPTED;RSVP=TRUE;CN="Marc See
 linger":https://gomarcellusshale.com/profile/MarcSeelinger
END:VEVENT
END:VCALENDAR
