BEGIN:VCALENDAR
PRODID:NingEventWidget-v1
VERSION:2.0
METHOD:PUBLISH
BEGIN:VTIMEZONE
TZID:Pacific/Midway
X-LIC-LOCATION:Pacific/Midway
BEGIN:STANDARD
TZOFFSETFROM:-1100
TZOFFSETTO:-1100
TZNAME:SST
DTSTART:19700101T000000
END:STANDARD
END:VTIMEZONE
BEGIN:VEVENT
UID:2274639:Event:51907
DTSTAMP:20260425T050606Z
SUMMARY:Petrochemical Training Courses
DESCRIPTION:Offering online courses in natrual gas and petrochemical f
 ields. The advanced oil and gas course offers an introduction to incre
 ase success rate and at the same time reducing environmental impacts i
 nclude the following:· Horizontal and directional drilling· Multilat
 eral drilling· Polycrystalline Diamond Compact (PDC) drill bits· Syn
 thetic drilling muds· Measurement-While-Drilling (MWD) technologyAddi
 tional courses available in carbon sequestation, deep well injection, 
 and pipeline hydraulics.In addition to this training program, we are a
 lso facility a 15 hour training program related to Petroleum Engineer.
 \n\nFor more information visit https://gomarcellusshale.com/events/pet
 rochemical-training-courses
DTSTART;TZID=Pacific/Midway:20110222T000000
DTEND;TZID=Pacific/Midway:20110328T235900
CATEGORIES:online, course, training, web-based
LOCATION:online course via web portal
WEBSITE:http://www.bfenvironmental.com/energy.php
URL:http://www.bfenvironmental.com/energy.php
CONTACT:5703351947
ORGANIZER;CN="Brian Oram, PG":https://gomarcellusshale.com/profile/Bri
 anOramPG
ATTACH;FMTTYPE="image/jpeg":
ATTENDEE;ROLE=REQ-PARTICIPANT;PARTSTAT=ACCEPTED;RSVP=TRUE;CN="Brian Or
 am, PG":https://gomarcellusshale.com/profile/BrianOramPG
ATTENDEE;ROLE=REQ-PARTICIPANT;PARTSTAT=ACCEPTED;RSVP=TRUE;CN="James Ha
 rber":https://gomarcellusshale.com/profile/JamesPHarber
END:VEVENT
END:VCALENDAR
