BEGIN:VCALENDAR
PRODID:NingEventWidget-v1
VERSION:2.0
METHOD:PUBLISH
BEGIN:VTIMEZONE
TZID:Pacific/Midway
X-LIC-LOCATION:Pacific/Midway
BEGIN:STANDARD
TZOFFSETFROM:-1100
TZOFFSETTO:-1100
TZNAME:SST
DTSTART:19700101T000000
END:STANDARD
END:VTIMEZONE
BEGIN:VEVENT
UID:2274639:Event:323339
DTSTAMP:20260423T100336Z
SUMMARY:PIOGA Eastern Oil & Gas Conference and Trade Show
DESCRIPTION:PIOGA’s Eastern Oil & Gas Conference and Trade Show is t
 he region’s only full-scale show aimed exclusively at the exploratio
 n and production industry, organized by Pennsylvania’s oldest and la
 rgest oil and gas trade association. Attend the conference, visit the 
 show or particpate as an exhibitor.\n\nFor more information visit http
 s://gomarcellusshale.com/events/pioga-eastern-oil-gas-conference-and-t
 rade-show
DTSTART;TZID=Pacific/Midway:20120828T210000
DTEND;TZID=Pacific/Midway:20120829T160000
CATEGORIES:conference, "trade show", exp
LOCATION:Monroeville Convention Center
WEBSITE:http://www.pioga.org/events/eastern-oil-amp-gas-conference-and
 -trade-show/
URL:http://www.pioga.org/events/eastern-oil-amp-gas-conference-and-tra
 de-show/
CONTACT:
ORGANIZER:
ATTACH;FMTTYPE="image/jpeg":
ATTENDEE;ROLE=REQ-PARTICIPANT;PARTSTAT=ACCEPTED;RSVP=TRUE;CN="Rob Beec
 ham":https://gomarcellusshale.com/profile/RobBeecham
ATTENDEE;ROLE=REQ-PARTICIPANT;PARTSTAT=ACCEPTED;RSVP=TRUE;CN="Matt Ben
 son":https://gomarcellusshale.com/profile/MattBenson
ATTENDEE;ROLE=REQ-PARTICIPANT;PARTSTAT=TENTATIVE;RSVP=TRUE;CN="George 
 Brown":https://gomarcellusshale.com/profile/GeorgeBrown
END:VEVENT
END:VCALENDAR
