BEGIN:VCALENDAR
PRODID:NingEventWidget-v1
VERSION:2.0
METHOD:PUBLISH
BEGIN:VTIMEZONE
TZID:Pacific/Midway
X-LIC-LOCATION:Pacific/Midway
BEGIN:STANDARD
TZOFFSETFROM:-1100
TZOFFSETTO:-1100
TZNAME:SST
DTSTART:19700101T000000
END:STANDARD
END:VTIMEZONE
BEGIN:VEVENT
UID:2274639:Event:165333
DTSTAMP:20260425T073642Z
SUMMARY:Pipe Tech Americas Summit 2012
DESCRIPTION:The Pipe Tech Americas Summit 2012 will deliver a combinat
 ion of case studies, keynote sessions, interactive workshops and netwo
 rking activities that address the most critical challenges faced by al
 l oil and gas pipeline operators and owners. Get the latest informatio
 n on regulatory developments, management best practices, construction 
 planning and maintenance and inspection technologies for improving pip
 eline performance and the bottom line.\nConfirmed speakers include:\nR
 obert S Purgason, Chief Operating Officer, Chesapeake Midstream Partne
 rs\n \nDenise Hamsher, Director Planning – Major Projects, Enbridge
  Energy Company Inc\n \nKen Murchie, Project Director Keystone Pipeli
 ne Transcanada Pipelines Limited\n \nView the latest program Here >>>
  http://www.pipetechamericas.com/program\nDelegate attendance options:
 \nPipeline Owners and Operators $1995 USD at http://www.pipetechameric
 as.com/booknow  \nSolution providers and consultants book for $4995 U
 SD at http://www.pipetechamericas.com/pca\nYour delegate package inclu
 des:\n\nAccess to all conference sessions including streams and worksh
 ops\nPre-arranged meetings with leading delegates and solution provide
 rs\nAttend all networking activities\nHosted Luncheons and drinks rece
 ptions\nOn-line summit catalog with detailed information on all attend
 ees\nConference notes on-line for future reference and knowledge shari
 ng\nOndemand access to video presentations after the summit\n\nFor all
  delegate and sponsorship enquiries, please email Larry Allen, Event M
 arketing Manager on larry.allen@wtgevents.com or call 1 416 214 1707\n
 \nFor more information visit https://gomarcellusshale.com/events/pipe-
 tech-americas-summit-2012
DTSTART;TZID=Pacific/Midway:20120118T073000
DTEND;TZID=Pacific/Midway:20120119T160000
CATEGORIES:oil, gas, pipeline, operator, "/", owner, conference, summi
 t, exhibition
LOCATION:Sugarland Marriott Town Square
WEBSITE:http://www.marriott.co.uk/hotels/maps/travel/housl-sugar-land-
 marriott-town-square
URL:http://www.marriott.co.uk/hotels/maps/travel/housl-sugar-land-marr
 iott-town-square
CONTACT:1 416 214 1707
ORGANIZER;CN="Laurence Allen":https://gomarcellusshale.com/profile/Lau
 renceAllen
ATTACH;FMTTYPE="image/jpeg":http://storage.ning.com/topology/rest/1.0/
 file/get/97589985?profile=original
ATTENDEE;ROLE=REQ-PARTICIPANT;PARTSTAT=ACCEPTED;RSVP=TRUE;CN="Laurence
  Allen":https://gomarcellusshale.com/profile/LaurenceAllen
END:VEVENT
END:VCALENDAR
