BEGIN:VCALENDAR
PRODID:NingEventWidget-v1
VERSION:2.0
METHOD:PUBLISH
BEGIN:VTIMEZONE
TZID:Pacific/Midway
X-LIC-LOCATION:Pacific/Midway
BEGIN:STANDARD
TZOFFSETFROM:-1100
TZOFFSETTO:-1100
TZNAME:SST
DTSTART:19700101T000000
END:STANDARD
END:VTIMEZONE
BEGIN:VEVENT
UID:2274639:Event:736601
DTSTAMP:20260425T054108Z
SUMMARY:Pittsburgh Wetland Workshop Next Week
DESCRIPTION:Get wetland trained next week in Beaver County, PA.\n\nMor
 e here:  https://swampschool.infusionsoft.com/app/storeFront/showProd
 uctDetail?productId=599\n\nFor more information visit https://gomarcel
 lusshale.com/events/pittsburgh-wetland-workshop-next-week
DTSTART;TZID=Pacific/Midway:20160606T000000
DTEND;TZID=Pacific/Midway:20160609T235900
CATEGORIES:training
LOCATION:Beaver County
WEBSITE:
URL:
CONTACT:
ORGANIZER;CN="Marc Seelinger":https://gomarcellusshale.com/profile/Mar
 cSeelinger
ATTACH;FMTTYPE="image/jpeg":http://storage.ning.com/topology/rest/1.0/
 file/get/97618123?profile=original
ATTENDEE;ROLE=REQ-PARTICIPANT;PARTSTAT=ACCEPTED;RSVP=TRUE;CN="Marc See
 linger":https://gomarcellusshale.com/profile/MarcSeelinger
END:VEVENT
END:VCALENDAR
